BEGIN:VCALENDAR
VERSION:2.0
PRODID:-//ChamberMaster//Event Calendar 2.0//EN
METHOD:PUBLISH
X-PUBLISHED-TTL:P3D
REFRESH-INTERVAL:P3D
CALSCALE:GREGORIAN
BEGIN:VEVENT
DTSTART:20230921T220000Z
DTEND:20230921T233000Z
X-MICROSOFT-CDO-ALLDAYEVENT:FALSE
SUMMARY:Workforce Coalition Kick-Off
DESCRIPTION:Cuyahoga Falls Community Event!\n\n\n\nThe Future of Workforce in the Falls |  Rise Together\nJoin us at the Natatorium Thursday\, September 21\, 2023 from 6 p.m. - 7:30 p.m.\n\n\n\nLike many communities\, Cuyahoga Falls is not immune to the profound labor shortages that are impacting the economy and supply chain.  As the baby boomers exit the workforce and replacement rates decline with each generation\, the opportunity and imperative to think creatively is upon us.
X-ALT-DESC;FMTTYPE=text/html:<h2>Cuyahoga Falls Community Event!<br />\n<br />\n<strong>The Future of Workforce in the Falls |&nbsp\; Rise Together</strong></h2>\n<strong><span style="font-family:comic sans ms\;">Join us at the Natatorium Thursday\, September 21\, 2023 from 6 p.m. - 7:30 p.m.</span></strong><br />\n<br />\nLike many communities\, Cuyahoga Falls is not immune to the profound labor shortages that are impacting the economy and supply chain.&nbsp\; As the baby boomers exit the workforce and replacement rates decline with each generation\, the opportunity and imperative to think creatively is upon us.
LOCATION:The Natatorium 2345 4th Street Cuyahoga Falls\, OH 44221
UID:e.2279.8524
SEQUENCE:3
DTSTAMP:20260425T150609Z
URL:https://business.cfchamber.com/events/details/workforce-coalition-kick-off-8524
END:VEVENT

END:VCALENDAR
