BEGIN:VCALENDAR
VERSION:2.0
PRODID:-//ChamberMaster//Event Calendar 2.0//EN
METHOD:PUBLISH
X-PUBLISHED-TTL:P3D
REFRESH-INTERVAL:P3D
CALSCALE:GREGORIAN
BEGIN:VEVENT
DTSTART:20240814T153000Z
DTEND:20240814T170000Z
X-MICROSOFT-CDO-ALLDAYEVENT:FALSE
SUMMARY:Women's Multi-Chamber Tea
DESCRIPTION:
X-ALT-DESC;FMTTYPE=text/html:
LOCATION:Social House Venue 4183 Wyoga Lake Rd.\, Stow\, OH
UID:e.2279.8590
SEQUENCE:3
DTSTAMP:20260424T203410Z
URL:https://business.cfchamber.com/events/details/women-s-multi-chamber-tea-8590
END:VEVENT

END:VCALENDAR
