BEGIN:VCALENDAR
VERSION:2.0
PRODID:-//ChamberMaster//Event Calendar 2.0//EN
METHOD:PUBLISH
X-PUBLISHED-TTL:P3D
REFRESH-INTERVAL:P3D
CALSCALE:GREGORIAN
BEGIN:VEVENT
DTSTART:20241211T220000Z
DTEND:20241212T000000Z
X-MICROSOFT-CDO-ALLDAYEVENT:FALSE
SUMMARY:Women's Holiday Social
DESCRIPTION:
X-ALT-DESC;FMTTYPE=text/html:
LOCATION:
UID:e.2279.8614
SEQUENCE:3
DTSTAMP:20260424T123858Z
URL:https://business.cfchamber.com/events/details/women-s-holiday-social-8614
END:VEVENT

END:VCALENDAR
