BEGIN:VCALENDAR
VERSION:2.0
PRODID:-//ChamberMaster//Event Calendar 2.0//EN
METHOD:PUBLISH
X-PUBLISHED-TTL:P3D
REFRESH-INTERVAL:P3D
CALSCALE:GREGORIAN
BEGIN:VEVENT
DTSTART:20231018T203000Z
DTEND:20231018T223000Z
X-MICROSOFT-CDO-ALLDAYEVENT:FALSE
SUMMARY:Wine Down Wednesday - New Event at the Gateway
DESCRIPTION:Wine Down Wednesday is a casual business event that offers you the opportunity to connect with other business professionals within the community.    Please join us every third Wednesday of the month from 4:30-6:30 for a glass of wine and great conversations.  Looking forward to seeing you there every month.
X-ALT-DESC;FMTTYPE=text/html:Wine Down Wednesday is a casual business event that offers you the opportunity to connect with other business professionals within the community. &nbsp\;&nbsp\;&nbsp\;Please join us every third Wednesday of the month from 4:30-6:30 for a glass of wine and great conversations.&nbsp\; Looking forward to seeing you there every month.
LOCATION:The Gateway Cuyahoga Falls Chamber of Commerce 111 Stow Avenue Suite 200
UID:e.2279.8122
SEQUENCE:3
DTSTAMP:20260425T133701Z
URL:https://business.cfchamber.com/events/details/wine-down-wednesday-new-event-at-the-gateway-10-18-2023-8122
END:VEVENT

END:VCALENDAR
