BEGIN:VCALENDAR
VERSION:2.0
PRODID:-//ChamberMaster//Event Calendar 2.0//EN
METHOD:PUBLISH
X-PUBLISHED-TTL:P3D
REFRESH-INTERVAL:P3D
CALSCALE:GREGORIAN
BEGIN:VEVENT
DTSTART:20230203T210000Z
DTEND:20230203T220000Z
X-MICROSOFT-CDO-ALLDAYEVENT:FALSE
SUMMARY:Tiki Underground Grand Opening and Ribbon Cutting
DESCRIPTION:
X-ALT-DESC;FMTTYPE=text/html:
LOCATION:Tiki Underground 1832 Front Street Cuyahoga Falls
UID:e.2279.8095
SEQUENCE:3
DTSTAMP:20260426T022657Z
URL:https://business.cfchamber.com/events/details/tiki-underground-grand-opening-and-ribbon-cutting-8095
END:VEVENT

END:VCALENDAR
