BEGIN:VCALENDAR
VERSION:2.0
PRODID:-//ChamberMaster//Event Calendar 2.0//EN
METHOD:PUBLISH
X-PUBLISHED-TTL:P3D
REFRESH-INTERVAL:P3D
CALSCALE:GREGORIAN
BEGIN:VEVENT
DTSTART:20230920T153000Z
DTEND:20230920T170000Z
X-MICROSOFT-CDO-ALLDAYEVENT:FALSE
SUMMARY:State of the Schools September 20\, 2023
DESCRIPTION:Join the Cuyahoga Falls Chamber of Commerce for the 2023 State of the Schools\n\n\n\nDr. Andrea Celico\, Superintendent of the Cuyahoga Falls City Schools and N'ecole Ast\, Superintendent of Woodridge City Schools will provide updates on programs\, school highlights and plans for each district. \n\nThe discussion will be moderated by Mary Jane Stanchina\, Executive Director of the Six District Educational Compact.\n\n \n\nQ & A session will follow\n\n\n\nFeaturing: \n\nSuperintendent Dr. Andrea Celico\, Cuyahoga Falls City Schools\n\nSuperintendent N'ecole Ast\, Woodridge Local Schools \n\nTOPIC: State of the Schools Address
X-ALT-DESC;FMTTYPE=text/html:<h3 style="font-weight: normal\; line-height: 1.2\; color: rgb(51\, 51\, 51)\; font-family: sans-serif\, Arial\, Verdana\, &quot\;Trebuchet MS&quot\;\;"><span style="font-family:arial\;">Join the Cuyahoga Falls Chamber of Commerce for the&nbsp\;<strong>2023</strong>&nbsp\;<strong>State&nbsp\;of the Schools</strong></span></h3>\n\n<p style="color: rgb(51\, 51\, 51)\; font-family: sans-serif\, Arial\, Verdana\, &quot\;Trebuchet MS&quot\;\; font-size: 13px\;"><br />\n<span style="font-family:arial\;">Dr. Andrea Celico\, Superintendent of the Cuyahoga Falls City Schools and N&#39\;ecole Ast\, Superintendent of Woodridge City Schools will provide updates on&nbsp\;programs\, school highlights and plans&nbsp\;for each district.&nbsp\;<br />\nThe discussion will be moderated by Mary Jane Stanchina\, Executive Director of the Six District Educational Compact.</span><br />\n&nbsp\;</p>\n\n<p style="color: rgb(51\, 51\, 51)\; font-family: sans-serif\, Arial\, Verdana\, &quot\;Trebuchet MS&quot\;\; font-size: 13px\;"><span style="font-family:arial\;">Q &amp\; A session will follow</span><br />\n<br />\n<span style="font-family:arial\;"><strong>Featuring:&nbsp\;</strong><br />\nSuperintendent Dr. Andrea Celico\, Cuyahoga Falls City Schools<br />\nSuperintendent N&#39\;ecole Ast\, Woodridge Local Schools&nbsp\;<br />\nTOPIC: State of the Schools Address</span></p>\n&nbsp\;\n\n<p>&nbsp\;</p>\n
LOCATION:Cuyahoga Falls Downtown Pavilion 2085 Front Street Cuyahoga Falls\, OH 44221
UID:e.2279.8501
SEQUENCE:3
DTSTAMP:20260425T154209Z
URL:https://business.cfchamber.com/events/details/state-of-the-schools-september-20-2023-8501
END:VEVENT

END:VCALENDAR
