BEGIN:VCALENDAR
VERSION:2.0
PRODID:-//ChamberMaster//Event Calendar 2.0//EN
METHOD:PUBLISH
X-PUBLISHED-TTL:P3D
REFRESH-INTERVAL:P3D
CALSCALE:GREGORIAN
BEGIN:VEVENT
DTSTART:20230427T153000Z
DTEND:20230427T170000Z
X-MICROSOFT-CDO-ALLDAYEVENT:FALSE
SUMMARY:State of the City Address
DESCRIPTION:
X-ALT-DESC;FMTTYPE=text/html:
LOCATION:Cuyahoga Falls Natatorium 2345 Fourth Street Cuyahoga Falls\, Ohio 44221
UID:e.2279.8102
SEQUENCE:3
DTSTAMP:20260426T005330Z
URL:https://business.cfchamber.com/events/details/state-of-the-city-address-8102
END:VEVENT

END:VCALENDAR
