BEGIN:VCALENDAR
VERSION:2.0
PRODID:-//ChamberMaster//Event Calendar 2.0//EN
METHOD:PUBLISH
X-PUBLISHED-TTL:P3D
REFRESH-INTERVAL:P3D
CALSCALE:GREGORIAN
BEGIN:VEVENT
DTSTART:20230321T121500Z
DTEND:20230321T153000Z
X-MICROSOFT-CDO-ALLDAYEVENT:FALSE
SUMMARY:Speed Networking - Multi-Chamber event sponsored by Fairlawn Chamber
DESCRIPTION:Participating Chambers:\n\nFairlawn\, Cuyahoga Falls\, Copley\, Hudson\, Stow-Munroe Falls
X-ALT-DESC;FMTTYPE=text/html:Participating Chambers:<br />\nFairlawn\, Cuyahoga Falls\, Copley\, Hudson\, Stow-Munroe Falls
LOCATION:Fairlawn Community Center 3486 S. Smith Road Fairlawn\, Oh 44333
UID:e.2279.8103
SEQUENCE:3
DTSTAMP:20260426T010008Z
URL:https://business.cfchamber.com/events/details/speed-networking-multi-chamber-event-sponsored-by-fairlawn-chamber-8103
END:VEVENT

END:VCALENDAR
