BEGIN:VCALENDAR
VERSION:2.0
PRODID:-//ChamberMaster//Event Calendar 2.0//EN
METHOD:PUBLISH
X-PUBLISHED-TTL:P3D
REFRESH-INTERVAL:P3D
CALSCALE:GREGORIAN
BEGIN:VEVENT
DTSTART:20240731T114500Z
DTEND:20240731T130000Z
X-MICROSOFT-CDO-ALLDAYEVENT:FALSE
SUMMARY:Speed Networking
DESCRIPTION:
X-ALT-DESC;FMTTYPE=text/html:
LOCATION:Speed Networking! Get ready to supercharge your business connections at our exclusive Speed Networking event on July 31st! This gathering is designed specifically for business owners who are looking to expand their professional network. Held at Huntington Bank\, this will be an energizing event to meet new faces\, form new contacts and collaborate. Beginning at 7:45 a.m. - Kickstart your day with the opportunity to meet like-minded entrepreneurs\, share insights\, and discover potential collaborations! Sponsored by the Wednesday morning Goldmine Group Coffee and donuts\, networking\, connections Free but registration is required Deadline is July 24 Huntington Bank 2nd St. Cuyahoga Falls
UID:e.2279.8598
SEQUENCE:3
DTSTAMP:20260424T215340Z
URL:https://business.cfchamber.com/events/details/speed-networking-8598
END:VEVENT

END:VCALENDAR
