BEGIN:VCALENDAR
VERSION:2.0
PRODID:-//ChamberMaster//Event Calendar 2.0//EN
METHOD:PUBLISH
X-PUBLISHED-TTL:P3D
REFRESH-INTERVAL:P3D
CALSCALE:GREGORIAN
BEGIN:VEVENT
DTSTART:20230412T153000Z
DTEND:20230412T170000Z
X-MICROSOFT-CDO-ALLDAYEVENT:FALSE
SUMMARY:Speakers Series Luncheon - State Treasurer Robert Sprague
DESCRIPTION:for the state's investment and debt portfolios\, oversees the daily cash flows of state monies\, and serves as custodian of certain funds and investment assets outside the state treasury. \n\n\n\nTreasurer Sprague successfully launched ResultsOHIO\, which established an infrastructure within the Treasurer's office to evaluate and support pay-for success programs aimed at combating the social and public health challenges facing Ohio.  Sprague also oversaw the development and implementation of Family Forward\, a program designed to support prospective parents navigating the adoption process. \n\nTreasurer Sprague graduated from Duke University and University of North Carolina at Chapel Hill. \n\n\n\nFor State Treasurer Sprague's complete bio\, please visit\n\nhttps://tos.ohio.gov/bio/
X-ALT-DESC;FMTTYPE=text/html:<span style="background:white\;"><span style="color:#333333\;"><span style="font-family:arial\,sans-serif\;"><span style="font-size:10.0pt\;">for the state&rsquo\;s investment and debt portfolios\, oversees the daily cash flows of state monies\, and serves as custodian of certain funds and investment assets outside the state treasury. </span></span></span></span><br />\n<br />\n<span style="color:#333333\;"><span style="font-family:arial\,sans-serif\;"><span style="font-size:10.0pt\;"><span style="background:white\;"><span style="font-variant-ligatures:normal\;font-variant-caps:normal\;orphans:2\;text-align:start\;widows:2\;-webkit-text-stroke-width:0px\;text-decoration-thickness:initial\;text-decoration-style:initial\;float:none\;word-spacing:0px\;">Treasurer Sprague successfully launched ResultsOHIO\, which established an infrastructure within the Treasurer&#39\;s office to evaluate and support pay-for success programs aimed at combating the social and public health challenges facing Ohio.&nbsp\; Sprague also oversaw the development and implementation of Family Forward\, a program designed to support prospective parents navigating the adoption process.&nbsp\;</span></span><br style="font-variant-ligatures:normal\;font-variant-caps:normal\;orphans:2\;text-align:start\;widows:2\;-webkit-text-stroke-width:0px\;text-decoration-thickness:initial\;text-decoration-style:initial\;word-spacing:0px\;" />\n<span style="background:white\;"><span style="font-variant-ligatures:normal\;font-variant-caps:normal\;orphans:2\;text-align:start\;widows:2\;-webkit-text-stroke-width:0px\;text-decoration-thickness:initial\;text-decoration-style:initial\;float:none\;word-spacing:0px\;">Treasurer Sprague graduated from Duke University and University of North Carolina at Chapel Hill.&nbsp\;</span></span><br style="font-variant-ligatures:normal\;font-variant-caps:normal\;orphans:2\;text-align:start\;widows:2\;-webkit-text-stroke-width:0px\;text-decoration-thickness:initial\;text-decoration-style:initial\;word-spacing:0px\;" />\n<br style="font-variant-ligatures:normal\;font-variant-caps:normal\;orphans:2\;text-align:start\;widows:2\;-webkit-text-stroke-width:0px\;text-decoration-thickness:initial\;text-decoration-style:initial\;word-spacing:0px\;" />\n<span style="background:white\;"><span style="font-variant-ligatures:normal\;font-variant-caps:normal\;orphans:2\;text-align:start\;widows:2\;-webkit-text-stroke-width:0px\;text-decoration-thickness:initial\;text-decoration-style:initial\;float:none\;word-spacing:0px\;">For State Treasurer Sprague&#39\;s complete bio\, please visit</span></span></span></span></span><br style="font-variant-ligatures:normal\;font-variant-caps:normal\;orphans:2\;text-align:start\;widows:2\;-webkit-text-stroke-width:0px\;text-decoration-thickness:initial\;text-decoration-style:initial\;word-spacing:0px\;" />\n<span style="color:#333333\;"><a href="https://tos.ohio.gov/bio/"><span style="font-variant-ligatures:normal\;font-variant-caps:normal\;orphans:2\;text-align:start\;widows:2\;-webkit-text-stroke-width:0px\;text-decoration-thickness:initial\;text-decoration-style:initial\;word-spacing:0px\;"><span style="color:#0782C1\;">https://tos.ohio.gov/bio/</span></span></a></span>
LOCATION:Cuyahoga Falls Downtown Pavilion 2085 Front Street Cuyahoga Falls
UID:e.2279.8133
SEQUENCE:3
DTSTAMP:20260426T005254Z
URL:https://business.cfchamber.com/events/details/speakers-series-luncheon-state-treasurer-robert-sprague-8133
END:VEVENT

END:VCALENDAR
