BEGIN:VCALENDAR
VERSION:2.0
PRODID:-//ChamberMaster//Event Calendar 2.0//EN
METHOD:PUBLISH
X-PUBLISHED-TTL:P3D
REFRESH-INTERVAL:P3D
CALSCALE:GREGORIAN
BEGIN:VEVENT
DTSTART:20230517T153000Z
DTEND:20230517T170000Z
X-MICROSOFT-CDO-ALLDAYEVENT:FALSE
SUMMARY:Speaker Series Luncheon with Evan Delahanty of Peaceful Fruits
DESCRIPTION:Peaceful Fruits is a B Corporation\, held in a verifiable way to the highest standards of environmental and social responsibility. \n\nTheir primary mission is making delicious\, healthy snacks for children and adults. \n\nThrough the Peaceful Fruits Foundation\, they also tackle the growing crisis around youth mental health. They create and distribute educational tools that help even young kids build lifelong mental health skills. Visit the Foundation.\n\nAs part of their community focus\, Peaceful Fruits employs people with developmental disabilities\, who often struggle to find rewarding\, full-wage jobs. They have a hand in making all of the snacks.\n\nPeaceful Fruits manufacture snacks using only ethically sourced fruit.\n\nwww.peacefulfruits.com
X-ALT-DESC;FMTTYPE=text/html:<span style="color:black\;"><span style="font-family:arial\,sans-serif\;">Peaceful Fruits is a B Corporation\, held in a verifiable way to the highest standards of environmental and social responsibility. </span></span><br />\n<span style="color:black\;"><span style="font-family:arial\,sans-serif\;">Their primary mission is making delicious\, healthy snacks for children and adults. </span></span><br />\n<span style="color:black\;"><span style="font-family:arial\,sans-serif\;">Through the Peaceful Fruits Foundation\, they also tackle the growing crisis around youth mental health. They create and distribute educational tools that help even young kids build lifelong mental health skills. <span style="font-size:11.0pt\;"><a href="https://peacefulfruitsfoundation.org/">Visit the Foundation.</a></span></span></span><br />\n<span style="color:black\;"><span style="font-family:arial\,sans-serif\;">As part of their community focus\, Peaceful Fruits employs people with developmental disabilities\, who often struggle to find rewarding\, full-wage jobs. They have a hand in making all of the snacks.</span></span><br />\n<span style="color:black\;"><span style="font-family:arial\,sans-serif\;">Peaceful Fruits manufacture snacks using only ethically sourced fruit.</span></span><br />\n<a href="http://www.peacefulfruits.com/" style="font-family: arial\, sans-serif\;" target="_blank">www.peacefulfruits.com</a>
LOCATION:Cuyahoga Falls Downtown Pavilion 2085 Front Street Cuyahoga Falls
UID:e.2279.8138
SEQUENCE:3
DTSTAMP:20260425T232037Z
URL:https://business.cfchamber.com/events/details/speaker-series-luncheon-with-evan-delahanty-of-peaceful-fruits-8138
END:VEVENT

END:VCALENDAR
