BEGIN:VCALENDAR
VERSION:2.0
PRODID:-//ChamberMaster//Event Calendar 2.0//EN
METHOD:PUBLISH
X-PUBLISHED-TTL:P3D
REFRESH-INTERVAL:P3D
CALSCALE:GREGORIAN
BEGIN:VEVENT
DTSTART:20230315T153000Z
DTEND:20230315T170000Z
X-MICROSOFT-CDO-ALLDAYEVENT:FALSE
SUMMARY:Speaker Series Luncheon - March 15\, 2023
DESCRIPTION:As the founder of Aegis 360 Consulting\, Ned Parks has had a rich and varied life that has taken him from police officer to helicopter pilot to successful entrepreneur with management and leadership positions in the journey.\n\nHe brings this experience to his consulting practice as a global provider of business consulting and staff development services that help organizations improve management and strategic competencies enhance customer service and improve employee engagement efforts.\n\n \n\nIn his work\, Ned has traveled to over 20 different countries\, interacted with more than 500 organizations\, made more than 1\,700 presentations to more than 25\,000 people from every level of organizational structure.
X-ALT-DESC;FMTTYPE=text/html:<span style="font-family:arial\,sans-serif\;"><span style="font-size:10.0pt\;">As the founder of Aegis 360 Consulting\, <strong><span style="border:none windowtext 1.0pt\;padding:0in\;font-weight:normal\;"><span style="color:black\;"><span style="font-family:arial\,sans-serif\;">Ned Parks</span></span></span></strong><span style="color:black\;">&nbsp\;has had a rich and varied life that has taken him from police officer to helicopter pilot to successful entrepreneur with management and leadership positions in the journey.</span></span></span><br />\n<span style="color:black\;"><span style="font-family:arial\,sans-serif\;"><span style="font-size:10.0pt\;">He brings this experience to his consulting practice as a global provider of business consulting and staff development services that help organizations improve management and strategic competencies enhance customer service and improve employee engagement efforts.</span></span></span><br />\n&nbsp\;<br />\n<span style="color:black\;"><span style="font-family:arial\,sans-serif\;"><span style="font-size:10.0pt\;">In his work\, Ned has traveled to over 20 different countries\, interacted with more than 500 organizations\, made more than 1\,700 presentations to more than 25\,000 people from every level of organizational structure.</span></span></span>
LOCATION:Cuyahoga Falls Downtown Pavilion 2085 Front Street Cuyahoga Falls
UID:e.2279.8126
SEQUENCE:3
DTSTAMP:20260426T022500Z
URL:https://business.cfchamber.com/events/details/speaker-series-luncheon-march-15-2023-8126
END:VEVENT

END:VCALENDAR
