BEGIN:VCALENDAR
VERSION:2.0
PRODID:-//ChamberMaster//Event Calendar 2.0//EN
METHOD:PUBLISH
X-PUBLISHED-TTL:P3D
REFRESH-INTERVAL:P3D
CALSCALE:GREGORIAN
BEGIN:VEVENT
DTSTART:20230215T163000Z
DTEND:20230215T180000Z
X-MICROSOFT-CDO-ALLDAYEVENT:FALSE
SUMMARY:Speaker Series Luncheon - February 15\, 2023
DESCRIPTION:
X-ALT-DESC;FMTTYPE=text/html:
LOCATION:Cuyahoga Falls Downtown Pavilion 2085 Front Street Cuyahoga Falls
UID:e.2279.8086
SEQUENCE:3
DTSTAMP:20260426T022541Z
URL:https://business.cfchamber.com/events/details/speaker-series-luncheon-february-15-2023-8086
END:VEVENT

END:VCALENDAR
