BEGIN:VCALENDAR
VERSION:2.0
PRODID:-//ChamberMaster//Event Calendar 2.0//EN
METHOD:PUBLISH
X-PUBLISHED-TTL:P3D
REFRESH-INTERVAL:P3D
CALSCALE:GREGORIAN
BEGIN:VEVENT
DTSTART:20240502T203000Z
DTEND:20240502T220000Z
X-MICROSOFT-CDO-ALLDAYEVENT:FALSE
SUMMARY:"Small Business Week" After 5
DESCRIPTION:
X-ALT-DESC;FMTTYPE=text/html:
LOCATION:The Brick House Tavern & Tap 581 Howe Ave\, Cuyahoga Falls
UID:e.2279.8586
SEQUENCE:3
DTSTAMP:20260425T013825Z
URL:https://business.cfchamber.com/events/details/small-business-week-after-5-8586
END:VEVENT

END:VCALENDAR
