BEGIN:VCALENDAR
VERSION:2.0
PRODID:-//ChamberMaster//Event Calendar 2.0//EN
METHOD:PUBLISH
X-PUBLISHED-TTL:P3D
REFRESH-INTERVAL:P3D
CALSCALE:GREGORIAN
BEGIN:VEVENT
DTSTART:20230207T163000Z
DTEND:20230207T173000Z
X-MICROSOFT-CDO-ALLDAYEVENT:FALSE
SUMMARY:Sgt. Clean Car Wash Open House\, Ribbon Cutting and VIP Tours
DESCRIPTION:Lunch provided by Kitchen 212.
X-ALT-DESC;FMTTYPE=text/html:Lunch provided by Kitchen 212.&nbsp\;&nbsp\;
LOCATION:Sgt. Clean Car Wash 2743 2nd Street Cuyahoga Falls 44221
UID:e.2279.8094
SEQUENCE:3
DTSTAMP:20260426T022954Z
URL:https://business.cfchamber.com/events/details/sgt-clean-car-wash-open-house-ribbon-cutting-and-vip-tours-8094
END:VEVENT

END:VCALENDAR
