BEGIN:VCALENDAR
VERSION:2.0
PRODID:-//ChamberMaster//Event Calendar 2.0//EN
METHOD:PUBLISH
X-PUBLISHED-TTL:P3D
REFRESH-INTERVAL:P3D
CALSCALE:GREGORIAN
BEGIN:VEVENT
DTSTART:20240924T220000Z
DTEND:20240924T230000Z
X-MICROSOFT-CDO-ALLDAYEVENT:FALSE
SUMMARY:Schnee Learning Center - Black Tiger Family Center Ribbon Cutting
DESCRIPTION:
X-ALT-DESC;FMTTYPE=text/html:
LOCATION:You are cordially invited to the opening of the Black Tiger Family Center! The Center is dedicated to supporting our families' well-being by ensuring they have access to necessary everyday items. It aims to foster a stronger\, healthier\, and more resilient community by alleviating the burden of obtaining new clothing\, hygiene products\, household supplies\, and school supplies for our families in need. We are excited to live out our vision of creating a culture of caring! Please join us for this exciting event. The event will take place inside the Schnee Learning Center. We hope to see you there! Schnee Learning Center 2222 Issaquah St\, CF 44221
UID:e.2279.8606
SEQUENCE:3
DTSTAMP:20260424T203236Z
URL:https://business.cfchamber.com/events/details/schnee-learning-center-black-tiger-family-center-ribbon-cutting-8606
END:VEVENT

END:VCALENDAR
