BEGIN:VCALENDAR
VERSION:2.0
PRODID:-//ChamberMaster//Event Calendar 2.0//EN
METHOD:PUBLISH
X-PUBLISHED-TTL:P3D
REFRESH-INTERVAL:P3D
CALSCALE:GREGORIAN
BEGIN:VEVENT
DTSTART:20240823T180000Z
DTEND:20240823T200000Z
X-MICROSOFT-CDO-ALLDAYEVENT:FALSE
SUMMARY:Ribbon Cutting & Open House
DESCRIPTION:
X-ALT-DESC;FMTTYPE=text/html:
LOCATION:Open House and Ribbon Cutting! Celebrate our new member\, HR Kyle This Friday\, August 23\, from 2 p.m. - 4 p.m. Building Address: 141 Broad Boulevard\, Suite 203\, Cuyahoga Falls
UID:e.2279.8608
SEQUENCE:3
DTSTAMP:20260424T202615Z
URL:https://business.cfchamber.com/events/details/ribbon-cutting-open-house-8608
END:VEVENT

END:VCALENDAR
