BEGIN:VCALENDAR
VERSION:2.0
PRODID:-//ChamberMaster//Event Calendar 2.0//EN
METHOD:PUBLISH
X-PUBLISHED-TTL:P3D
REFRESH-INTERVAL:P3D
CALSCALE:GREGORIAN
BEGIN:VEVENT
DTSTART:20230720T160000Z
DTEND:20230720T170000Z
X-MICROSOFT-CDO-ALLDAYEVENT:FALSE
SUMMARY:Ribbon Cutting at Joie De Vivre Medical Spa
DESCRIPTION:
X-ALT-DESC;FMTTYPE=text/html:
LOCATION:Joie De Vivre Medical Spa 2404 4th Street Cuyahoga Falls\, OH 44221
UID:e.2279.8495
SEQUENCE:3
DTSTAMP:20260425T184502Z
URL:https://business.cfchamber.com/events/details/ribbon-cutting-at-joie-de-vivre-medical-spa-8495
END:VEVENT

END:VCALENDAR
