BEGIN:VCALENDAR
VERSION:2.0
PRODID:-//ChamberMaster//Event Calendar 2.0//EN
METHOD:PUBLISH
X-PUBLISHED-TTL:P3D
REFRESH-INTERVAL:P3D
CALSCALE:GREGORIAN
BEGIN:VEVENT
DTSTART:20231117T180000Z
DTEND:20231117T184500Z
X-MICROSOFT-CDO-ALLDAYEVENT:FALSE
SUMMARY:November Member Orientation Q&A
DESCRIPTION:
X-ALT-DESC;FMTTYPE=text/html:
LOCATION:Topic: Member Orientation Q&A Time: Nov 17\, 2023 1:00 PM Eastern Time (US and Canada) Join Zoom Meeting https://us02web.zoom.us/j/87227262703 Meeting ID: 872 2726 2703 Board members have organized this virtual session to help you get to know your Chamber better! We have board members participating for each session. Questions about membership\, events\, volunteering? We got you covered. We hope to see you online!
UID:e.2279.8537
SEQUENCE:3
DTSTAMP:20260425T133210Z
URL:https://business.cfchamber.com/events/details/november-member-orientation-q-a-8537
END:VEVENT

END:VCALENDAR
