BEGIN:VCALENDAR
VERSION:2.0
PRODID:-//ChamberMaster//Event Calendar 2.0//EN
METHOD:PUBLISH
X-PUBLISHED-TTL:P3D
REFRESH-INTERVAL:P3D
CALSCALE:GREGORIAN
BEGIN:VEVENT
DTSTART:20230803T203000Z
DTEND:20230803T223000Z
X-MICROSOFT-CDO-ALLDAYEVENT:FALSE
SUMMARY:Multi Chamber Young Professionals Networking
DESCRIPTION:Please join the Multi-Chamber Young Professionals for an evening of fun relaxed networking with other like-minded individuals from surrounding area Chambers. The event is dedicated to connecting the Young Professional members of multiple Chambers together in order to grow our networks\, skills and abilities to affect change in our communities. The multi-county approach will allow us to expose our members to new places\, people and area needs. We are empowering the future leaders of our Chambers to reach new heights while also growing their networks in a more impactful way. \n\n\n\nComplimentary food\n\nCash Bar - Beer\, wine and spirits
X-ALT-DESC;FMTTYPE=text/html:<span style="color: rgb(51\, 51\, 51)\; font-family: sans-serif\, Arial\, Verdana\, &quot\;Trebuchet MS&quot\;\; font-size: 13px\; background-color: rgb(255\, 255\, 255)\;"><span style="font-size:14px\;">Please join the Multi-Chamber Young Professionals for an evening of fun relaxed networking with other like-minded individuals from surrounding area Chambers. The event is dedicated to connecting the Young Professional members of multiple Chambers together in order to grow our networks\, skills and abilities to affect change in our communities. The multi-county approach will allow us to expose our members to new places\, people and area needs. We are empowering the future leaders of our Chambers to reach new heights while also growing their networks in a more impactful way.&nbsp\;</span><br />\n<br />\n<span style="font-family:comic sans ms\;"><span style="font-size:16px\;"><strong>Complimentary food<br />\nCash Bar -&nbsp\;Beer\, wine and spirits</strong></span></span></span>
LOCATION:HiHO Brewing Company 1707 Front St. Cuyahoga Falls
UID:e.2279.8062
SEQUENCE:3
DTSTAMP:20260425T165057Z
URL:https://business.cfchamber.com/events/details/multi-chamber-young-professionals-networking-8062
END:VEVENT

END:VCALENDAR
