BEGIN:VCALENDAR
VERSION:2.0
PRODID:-//ChamberMaster//Event Calendar 2.0//EN
METHOD:PUBLISH
X-PUBLISHED-TTL:P3D
REFRESH-INTERVAL:P3D
CALSCALE:GREGORIAN
BEGIN:VEVENT
DTSTART:20250801T160000Z
DTEND:20250801T160000Z
X-MICROSOFT-CDO-ALLDAYEVENT:FALSE
SUMMARY:Multi-Chamber First Friday Celebration
DESCRIPTION:
X-ALT-DESC;FMTTYPE=text/html:
LOCATION:Great Lakes Honda will be celebrating 10 years of Multi-Chamber First Friday celebration originally scheduled for Friday\, December 6\, 2024. More details to come. Stay tuned!
UID:e.2279.8607
SEQUENCE:3
DTSTAMP:20260424T012526Z
URL:https://business.cfchamber.com/events/details/multi-chamber-first-friday-celebration-8607
END:VEVENT

END:VCALENDAR
