BEGIN:VCALENDAR
VERSION:2.0
PRODID:-//ChamberMaster//Event Calendar 2.0//EN
METHOD:PUBLISH
X-PUBLISHED-TTL:P3D
REFRESH-INTERVAL:P3D
CALSCALE:GREGORIAN
BEGIN:VEVENT
DTSTART:20230125T220000Z
DTEND:20230126T000000Z
X-MICROSOFT-CDO-ALLDAYEVENT:FALSE
SUMMARY:Movers and Shakers
DESCRIPTION:Introduced as a new event series in 2022 \, Movers & Shakers was created based on our member's requests for casual after hours events that provided opportunities to meet new people and begin building relationships and connections.  Movers & Shakers events are scheduled throughout the year in unique\, fun and casual after hours locations.  Watch for upcoming dates and locations.   Interested in hosting a Movers and Shakers\, contact Kamelia Fisher at 330-923-9067.
X-ALT-DESC;FMTTYPE=text/html:<span style="background:white\;"><span style="color:#333333\;"><span style="font-family:arial\,sans-serif\;"><span style="font-size:10.0pt\;">Introduced as a new event series in 2022 \, Movers &amp\; Shakers was created based on our member&#39\;s requests for casual after hours events that provided opportunities to meet new people and begin building relationships and connections.&nbsp\; Movers &amp\; Shakers events are scheduled throughout the year in unique\, fun and casual after hours locations.&nbsp\; Watch for upcoming dates and locations.&nbsp\;</span></span></span></span>&nbsp\; Interested in hosting a Movers and Shakers\, contact Kamelia Fisher at 330-923-9067.&nbsp\;
LOCATION:Punts & Pints 1767 State Road Cuyahoga Falls\, Oh
UID:e.2279.8093
SEQUENCE:3
DTSTAMP:20260426T034416Z
URL:https://business.cfchamber.com/events/details/movers-and-shakers-8093
END:VEVENT

END:VCALENDAR
