BEGIN:VCALENDAR
VERSION:2.0
PRODID:-//ChamberMaster//Event Calendar 2.0//EN
METHOD:PUBLISH
X-PUBLISHED-TTL:P3D
REFRESH-INTERVAL:P3D
CALSCALE:GREGORIAN
BEGIN:VEVENT
DTSTART:20230823T153000Z
DTEND:20230823T170000Z
X-MICROSOFT-CDO-ALLDAYEVENT:FALSE
SUMMARY:Monthly Luncheon at the Cuy. Falls Downtown Pavilion
DESCRIPTION:Join us at the Chamber of Commerce Business Monthly Luncheon!\n\nA great way to spend time networking and developing business relationships with fellow business leaders. \n\n\n\n\n\n\n\nSPEAKERS:\n\nNed Parks\, Aegis 360  Consulting and Adam LaFaber\, Digital Sandwich Agency\n\n\n\nTopic:  Where Are You Hiding In Your Business and What Is It Costing You?\n\nJoin Adam and Ned\, as they share case stories of business owners who became lost in their own business and the high costs they had to pay so that you can avoid the same trap.\n\nLunch is provided by Fresche Catering\n\n\n\nSponsored by: \n\nWestern Reserve Hospital\n\nhttps://www.westernreservehospital.org/
X-ALT-DESC;FMTTYPE=text/html:<p><span style="font-family:verdana\;"><span style="font-size:14px\;">Join us at the Chamber of Commerce Business&nbsp\;Monthly Luncheon!<br />\nA&nbsp\;great way to spend time networking and developing&nbsp\;business relationships with fellow business leaders.&nbsp\;</span><br />\n<br />\n<br />\n<br />\n<strong>SPEAKERS:</strong><br />\n<span style="font-size:14px\;">Ned Parks\, Aegis 360<sup>&reg\;</sup> Consulting and Adam LaFaber\, Digital Sandwich Agency<br />\n<br />\n<strong>Topic:</strong>&nbsp\; <strong>Where Are You Hiding In Your Business and What Is It Costing You?</strong><br />\nJoin Adam and Ned\, as they share case stories of business owners who became lost in their own business and the high costs they had to pay so that you can avoid the same trap.</span></span></p>\n\n<p><span style="font-family:verdana\;"><span style="font-size:14px\;"><strong>Lunch is provided by Fresche Catering<br />\n<br />\nSponsored by</strong>:&nbsp\;</span><br />\n<span style="font-size: 14px\;">Western Reserve Hospital</span><br />\n<a href="http://www.westernreservehospital.org/">https://www.westernreservehospital.org/</a></span></p>\n\n<p>&nbsp\;</p>\n
LOCATION:Cuyahoga Falls Downtown Pavilion 2085 Front Street Cuyahoga Falls\, OH
UID:e.2279.8500
SEQUENCE:3
DTSTAMP:20260425T183902Z
URL:https://business.cfchamber.com/events/details/monthly-luncheon-at-the-cuy-falls-downtown-pavilion-8500
END:VEVENT

END:VCALENDAR
