BEGIN:VCALENDAR
VERSION:2.0
PRODID:-//ChamberMaster//Event Calendar 2.0//EN
METHOD:PUBLISH
X-PUBLISHED-TTL:P3D
REFRESH-INTERVAL:P3D
CALSCALE:GREGORIAN
BEGIN:VEVENT
DTSTART;VALUE=DATE:20171101
DTEND;VALUE=DATE:20171102
TRANSP:TRANSPARENT
X-MICROSOFT-CDO-ALLDAYEVENT:TRUE
SUMMARY:Luncheon Pre-Paid 6 Pack Card Purchase
DESCRIPTION:Purchase a Cuyahoga Falls Chamber of Commerce 6 PACK CARD good for the Chamber of Commerce Luncheon Meetings\n\n \n\n	Purchase a 6-Pack card today! \n	Use it like cash!\n	Instead of using petty cash to cover your Chamber Lunch Meeting costs\, pick up a 6-Pack Card TODAY it's that EASY!  \n	Best of all\, you\, or anyone else in your business may also use the card.\n	We  store your card so there is no worry on losing it.  We keep track of it!\n\n\nReservations are required for all luncheon meetings.\n\nThis card is Non-Refundable and expires 12 months after the purchase date.
X-ALT-DESC;FMTTYPE=text/html:<span style="font-family:verdana\;">Purchase a Cuyahoga Falls Chamber of Commerce&nbsp\;6 PACK CARD good for the&nbsp\;<strong>Chamber of Commerce Luncheon Meetings</strong></span><br />\n&nbsp\;\n<ul>\n	<li style="text-align: center\;"><span style="font-family:cambria\,serif\;"><span style="font-size:12.0pt\;">Purchase a 6-Pack card today! </span></span></li>\n	<li style="text-align: center\;"><span style="font-family:cambria\,serif\;"><span style="font-size:12.0pt\;">Use it like cash!</span></span></li>\n	<li style="text-align: center\;"><span style="font-family:cambria\,serif\;"><span style="font-size:12.0pt\;">Instead of using petty cash to cover your Chamber Lunch Meeting costs\, pick up a 6-Pack Card TODAY&nbsp\;<u>it&#39\;s that EASY!</u>&nbsp\; </span></span></li>\n	<li style="text-align: center\;"><span style="font-family:cambria\,serif\;"><span style="font-size:12.0pt\;">Best of all\, you\, or anyone else in your business may also use the card.</span></span></li>\n	<li style="text-align: center\;"><span style="font-family:cambria\,serif\;"><span style="font-size:12.0pt\;">We &nbsp\;store your card so there is no worry on losing it.&nbsp\; We keep track of it!</span></span></li>\n</ul>\n\n<div style="text-align:center\;"><em><span style="font-family:cambria\,serif\;"><span style="font-size:8.0pt\;">Reservations are required for all luncheon meetings.<br />\nThis card is Non-Refundable and expires 12 months after the purchase date.&nbsp\;</span></span></em></div>\n\n<p>&nbsp\;</p>\n
LOCATION:To be used at our monthly luncheon meetings.
UID:e.2279.3202
SEQUENCE:3
DTSTAMP:20260425T014037Z
URL:https://business.cfchamber.com/events/details/luncheon-pre-paid-6-pack-card-purchase-11-01-2017-3202
END:VEVENT

END:VCALENDAR
