BEGIN:VCALENDAR
VERSION:2.0
PRODID:-//ChamberMaster//Event Calendar 2.0//EN
METHOD:PUBLISH
X-PUBLISHED-TTL:P3D
REFRESH-INTERVAL:P3D
CALSCALE:GREGORIAN
BEGIN:VEVENT
DTSTART:20240924T153000Z
DTEND:20240924T164500Z
X-MICROSOFT-CDO-ALLDAYEVENT:FALSE
SUMMARY:Lunch & Learn - Series 2024
DESCRIPTION:
X-ALT-DESC;FMTTYPE=text/html:
LOCATION:Lunch & Learn Series 2024 TOPIC: Medicare 101 Discussion of the upcoming changes to the Part D plan under the Inflation Reduction Act (IRA) Guest Speaker: Elizabeth England\, KAZ Company Bio: For the past 25 years\, I have worked in the Human Resources field in benefits administration for both large and small companies in a variety of industries. My career in benefits administration included working with employees and retirees regarding their health insurance plans. As a Boomer\, Senior and Retiree\, I have expanded my career to work in the health care insurance industry focusing on Medicare health plans. I strive to establish a positive experience for seniors by educating them on their options when joining a Medicare program and/or leaving a company plan. 11:30 a.m. - 12 noon Lunch and Social Networking 12 noon - 12:45 p.m. Learning program Seating is limited to 12\, and registration is required
UID:e.2279.8595
SEQUENCE:3
DTSTAMP:20260424T184517Z
URL:https://business.cfchamber.com/events/details/lunch-learn-series-2024-8595
END:VEVENT

END:VCALENDAR
