BEGIN:VCALENDAR
VERSION:2.0
PRODID:-//ChamberMaster//Event Calendar 2.0//EN
METHOD:PUBLISH
X-PUBLISHED-TTL:P3D
REFRESH-INTERVAL:P3D
CALSCALE:GREGORIAN
BEGIN:VEVENT
DTSTART:20241008T153000Z
DTEND:20241008T164500Z
X-MICROSOFT-CDO-ALLDAYEVENT:FALSE
SUMMARY:Lunch & Learn - Series 2024
DESCRIPTION:
X-ALT-DESC;FMTTYPE=text/html:
LOCATION:Lunch & Learn 2024 Series Topic - The Intersection of Nursing Home Asset Protection\, Estate Planning and Probate. What you need to know! Guest Speaker: Jaclyn Palumbo\, Elder Law and Estate Planning Attorney with Palumbo & Sweet Bio: Jaclyn serves as Vice-Chair of the Greater East Ohio Board of the Alzheimer's Association and is currently chair of the Akron Bar Association Elder Law\, Probate\, and Estate Planning section. As an elder law and estate planning attorney\, I have the privilege of presenting to various organizations throughout the year. These include libraries and various Alzheimer's Association support groups\, where my role on the Association's board allows me to share my expertise. 11:30 a.m. - 12 noon Lunch and Social Networking 12 noon - 12:45 p.m. Learning program Seating is limited to 12\, and registration is required
UID:e.2279.8589
SEQUENCE:3
DTSTAMP:20260424T171350Z
URL:https://business.cfchamber.com/events/details/lunch-learn-series-2024-8589
END:VEVENT

END:VCALENDAR
