BEGIN:VCALENDAR
VERSION:2.0
PRODID:-//ChamberMaster//Event Calendar 2.0//EN
METHOD:PUBLISH
X-PUBLISHED-TTL:P3D
REFRESH-INTERVAL:P3D
CALSCALE:GREGORIAN
BEGIN:VEVENT
DTSTART:20240820T153000Z
DTEND:20240820T164500Z
X-MICROSOFT-CDO-ALLDAYEVENT:FALSE
SUMMARY:Lunch & Learn Series 2024
DESCRIPTION:
X-ALT-DESC;FMTTYPE=text/html:
LOCATION:August Lunch & Learn Series "What You Need to Know About the Rapidly Growing Field of Psychedelics in Mental Health" Guest Speaker: Britney Cirullo\, MA\, LPCC-S\, BCN BIO: Britney Cirullo\, MA\, LPCC-S\, BCN\, is the owner of Alternative Therapeutics\, a holistic\, trauma-focused group mental health practice in Cuyahoga Falls\, Ohio. She is also the owner of The Wellness Den\, an integrative yoga and wellness studio with a focus on mental health and trauma. Britney is passionate about techniques that allow individuals to take back control of their biology and experience deep\, transformative healing\, including neurofeedback\, EMDR\, IFS\, and psychedelic-assisted therapies. Britney provides ketamine-assisted psychotherapy in individual\, group\, and retreat settings and is excited to share about this rapidly growing field with her community. Our Lunch and Learns are held twice a month on Tuesdays at the Gateway. 11:30 a.m. - 12 noon Lunch and Social Networking 12 noon - 12:45 p.m. Learning program Seating is limited to 12\, and registration is required
UID:e.2279.8584
SEQUENCE:3
DTSTAMP:20260424T215510Z
URL:https://business.cfchamber.com/events/details/lunch-learn-series-2024-8584
END:VEVENT

END:VCALENDAR
