BEGIN:VCALENDAR
VERSION:2.0
PRODID:-//ChamberMaster//Event Calendar 2.0//EN
METHOD:PUBLISH
X-PUBLISHED-TTL:P3D
REFRESH-INTERVAL:P3D
CALSCALE:GREGORIAN
BEGIN:VEVENT
DTSTART:20240709T153000Z
DTEND:20240709T164500Z
X-MICROSOFT-CDO-ALLDAYEVENT:FALSE
SUMMARY:Lunch & Learn - Series 2024
DESCRIPTION:
X-ALT-DESC;FMTTYPE=text/html:
LOCATION:LUNCH 'N LEARN TOPIC: 10 Tips for Selling to Seniors GUEST SPEAKER: Bob Pontius\, MA\, CDP\, Danbury Senior Living "Baby Boomers\, Active Seniors\, Golden Agers\, Older Adults\, Perennials What in the world are we supposed to call folks over 65\, 70 OR 80 these days? Who are they\, how do we find them and most importantly\, how do we sell to them? They have money and want to buy but how can I be sure I am selling to them effectively? It seems like they have everything they need and yet they don't trust anybody! In his lecture\, "10 1/2 Tips for Selling To Seniors\," Bob Pontius\, MA\, CDP discusses the 10 (and a half!) most important items he has identified in his long and successful career of bonding with seniors. Bio: Bob is Regional Director of Business Development for Danbury Senior Living and has worked in marketing Long Term Care companies for 20 years and has some great stories to share about what he's learned that we must do if we want a "senior" to buy from us!" 11:30 a.m. - 12 noon Lunch and Social Networking 12 noon - 12:45 p.m. Learning program Seating is limited to 12\, and registration is required
UID:e.2279.8581
SEQUENCE:3
DTSTAMP:20260424T215504Z
URL:https://business.cfchamber.com/events/details/lunch-learn-series-2024-8581
END:VEVENT

END:VCALENDAR
