BEGIN:VCALENDAR
VERSION:2.0
PRODID:-//ChamberMaster//Event Calendar 2.0//EN
METHOD:PUBLISH
X-PUBLISHED-TTL:P3D
REFRESH-INTERVAL:P3D
CALSCALE:GREGORIAN
BEGIN:VEVENT
DTSTART:20240625T153000Z
DTEND:20240625T164500Z
X-MICROSOFT-CDO-ALLDAYEVENT:FALSE
SUMMARY:Lunch & Learn - Series 2024
DESCRIPTION:
X-ALT-DESC;FMTTYPE=text/html:
LOCATION:LUNCH 'N LEARN Series 2024 June is Alzheimer's and Brain Awareness Month TOPIC: Knowing the 10 signs of Alzheimer's disease Guest Speaker: Laura Cosentino\, Alzheimer's Association Greater Akron East Ohio Area Chapter Bio: Laura Cosentino is a Program Manager for the Alzheimer's Association Greater East Ohio Area Chapter. Laura oversees our local family and caregiver support groups and presents education programs to companies and organizations that cover topics such as healthy habits for your brain and body\, understanding Alzheimer's and dementia\, effective communication strategies and other pertinent information. Today's presentation will outline knowing the 10 signs of Alzheimer's disease. All of the programs\, which also include a 24/7 Helpline are free of charge and can be scheduled at your convenience. Interested in being our guest speaker? Contact director@cfchamber.com Lunch and Learns are held at the Gateway on Tuesdays twice a month. 11:30 a.m. - 12 noon Lunch and Social Networking 12 noon - 12:45 p.m. Learning program Seating is limited to 12\, and registration is required
UID:e.2279.8577
SEQUENCE:3
DTSTAMP:20260424T233814Z
URL:https://business.cfchamber.com/events/details/lunch-learn-series-2024-8577
END:VEVENT

END:VCALENDAR
