BEGIN:VCALENDAR
VERSION:2.0
PRODID:-//ChamberMaster//Event Calendar 2.0//EN
METHOD:PUBLISH
X-PUBLISHED-TTL:P3D
REFRESH-INTERVAL:P3D
CALSCALE:GREGORIAN
BEGIN:VEVENT
DTSTART:20240507T153000Z
DTEND:20240507T164500Z
X-MICROSOFT-CDO-ALLDAYEVENT:FALSE
SUMMARY:Lunch & Learn - Series 2024
DESCRIPTION:
X-ALT-DESC;FMTTYPE=text/html:
LOCATION:Lunch & Learn - May TOPIC: Insurance and Claims Ever pondered why insurance bills keep climbing? Eager to unravel the mystery of how claims sneakily nudge up your premium? Join us for this week's Lunch & Learn as we delve into the captivating world of insurance! Guest Speakers: Scott Mitchell\, Owner - Scott Mitchell Insurance Agency and Brian Roach\, Owner - ABF Roofing & Restoration\, LLC 11:30 a.m. - 12 noon Lunch and Social Networking 12 noon - 12:45 p.m. Learning program Seating is limited to 12\, and registration is required
UID:e.2279.8573
SEQUENCE:3
DTSTAMP:20260425T013619Z
URL:https://business.cfchamber.com/events/details/lunch-learn-series-2024-8573
END:VEVENT

END:VCALENDAR
