BEGIN:VCALENDAR
VERSION:2.0
PRODID:-//ChamberMaster//Event Calendar 2.0//EN
METHOD:PUBLISH
X-PUBLISHED-TTL:P3D
REFRESH-INTERVAL:P3D
CALSCALE:GREGORIAN
BEGIN:VEVENT
DTSTART:20240423T153000Z
DTEND:20240423T164500Z
X-MICROSOFT-CDO-ALLDAYEVENT:FALSE
SUMMARY:Lunch & Learn - Series 2024
DESCRIPTION:
X-ALT-DESC;FMTTYPE=text/html:
LOCATION:Join our LUNCH 'N LEARN to close out the month of April with guest speaker Pastor David of Grandview United Methodist Church. Be sure to register to secure a spot. Don't forget to pack your lunch! TOPIC - Bridging the Culture Gap David Hull-Frye is Pastor at Grandview United Methodist Church. Grandview is an InterGenerational MultiCultural Christian Faith Community with campuses at 23rd & Phelps and the Gateway. His work as a Pastor focuses largely on helping others address their anxiety in practical ways. Send your info to director@cfchamber.com Lunch and Learns are held at the Gateway on Tuesdays twice a month. 11:30 a.m. - 12 noon Lunch and Social Networking 12 noon - 12:45 p.m. Learning program Seating is limited to 12\, and registration is required
UID:e.2279.8572
SEQUENCE:3
DTSTAMP:20260425T031821Z
URL:https://business.cfchamber.com/events/details/lunch-learn-series-2024-8572
END:VEVENT

END:VCALENDAR
