BEGIN:VCALENDAR
VERSION:2.0
PRODID:-//ChamberMaster//Event Calendar 2.0//EN
METHOD:PUBLISH
X-PUBLISHED-TTL:P3D
REFRESH-INTERVAL:P3D
CALSCALE:GREGORIAN
BEGIN:VEVENT
DTSTART:20231107T163000Z
DTEND:20231107T174500Z
X-MICROSOFT-CDO-ALLDAYEVENT:FALSE
SUMMARY:Lunch & Learn - Series 2023
DESCRIPTION:TOPIC: \n\n"Small business metrics" What are you measuring and are those metrics giving you information you need?\n\n\n\n\nGUEST SPEAKER:  Ned Parks - Founder\,  Aegis 360 Consulting
X-ALT-DESC;FMTTYPE=text/html:<p style="margin:0in"><span style="font-family:"><span style="font-size:14px\;"><strong>TOPIC:&nbsp\;</strong></span></span><br />\n<span style="font-size:16px\;"><strong><span style="font-family:comic sans ms\;">&ldquo\;Small business metrics&rdquo\; What are you measuring and are those metrics giving </span></strong><strong><span style="font-family:comic sans ms\;">you information you need?</span></strong></span></p>\n\n<hr />\n<p style="margin:0in"><br />\n<span style="font-family:"><span style="font-size:14px\;"><strong>GUEST SPEAKER:&nbsp\; Ned Parks - Founder\,&nbsp\;&nbsp\;Aegis 360 Consulting</strong></span></span><br />\n&nbsp\;</p>\n
LOCATION:
UID:e.2279.8531
SEQUENCE:3
DTSTAMP:20260425T114426Z
URL:https://business.cfchamber.com/events/details/lunch-learn-series-2023-8531
END:VEVENT

END:VCALENDAR
