BEGIN:VCALENDAR
VERSION:2.0
PRODID:-//ChamberMaster//Event Calendar 2.0//EN
METHOD:PUBLISH
X-PUBLISHED-TTL:P3D
REFRESH-INTERVAL:P3D
CALSCALE:GREGORIAN
BEGIN:VEVENT
DTSTART:20230912T153000Z
DTEND:20230912T164500Z
X-MICROSOFT-CDO-ALLDAYEVENT:FALSE
SUMMARY:Lunch & Learn - Series 2023
DESCRIPTION:TOPIC:  Stop Missing Out! 5 Phone Techniques to Transform Your Business Success!\n\n\n\n\nGUEST SPEAKER:  Lindsey Curcio -  Digital Sandwich Agency\n\n\n\nLindsey is an expert in short-form "Vertical" video and is passionate about using social media to grow brands. She currently works at Digital Sandwich Agency\, where she holds the title of Influencer Marketing Specialist/Director of Social Media.\n\n\n\nAlong with her professional ventures\, she is also the Founder of The Akron Bucket List. In this social media blog\, she highlights the best spots in the Akron area and promotes her passion for supporting local businesses.
X-ALT-DESC;FMTTYPE=text/html:<p style="margin:0in"><span style="font-family:"><span style="font-size:14px\;"><strong>TOPIC:&nbsp\;&nbsp\;</strong></span></span><span style="font-size:14px\;"><strong><span style="font-family:arial\,sans-serif\;">Stop Missing Out! 5 Phone Techniques to Transform Your Business Success!</span></strong></span></p>\n\n<hr />\n<p style="margin:0in"><br />\n<span style="font-family:"><span style="font-size:14px\;"><strong>GUEST SPEAKER:&nbsp\; Lindsey Curcio -&nbsp\; Digital Sandwich Agency</strong></span><br />\n<br />\nLindsey is an expert in short-form &quot\;Vertical&quot\; video and is passionate about using social media to grow brands. She currently works at Digital Sandwich Agency\, where she holds the title of Influencer Marketing Specialist/Director of Social Media.<br />\n<br />\nAlong with her professional ventures\, she is also the Founder of<em><strong> The Akron Bucket List.</strong></em> In this social media blog\, she highlights the best spots in the Akron area and promotes her passion for supporting local businesses.</span></p>\n
LOCATION:
UID:e.2279.8525
SEQUENCE:3
DTSTAMP:20260425T153850Z
URL:https://business.cfchamber.com/events/details/lunch-learn-series-2023-8525
END:VEVENT

END:VCALENDAR
