BEGIN:VCALENDAR
VERSION:2.0
PRODID:-//ChamberMaster//Event Calendar 2.0//EN
METHOD:PUBLISH
X-PUBLISHED-TTL:P3D
REFRESH-INTERVAL:P3D
CALSCALE:GREGORIAN
BEGIN:VEVENT
DTSTART:20230926T153000Z
DTEND:20230926T164500Z
X-MICROSOFT-CDO-ALLDAYEVENT:FALSE
SUMMARY:Lunch & Learn - Series 2023
DESCRIPTION:TOPIC:\n\n\n\nMaintaining Peace in a Chaotic World:  How to talk to your employees about mental health\n\n\n \n\nSPEAKER:  Becky Wolfe\n\nHelping Medical Practices Reduce Turnover Costs | Burnout Prevention Expert | Message Me To Learn More About How to Retain Your Best People | Host of the Leadership Pulse Podcast\n\nBecky is a Leadership and Health Coach on a mission to help women and men live happy\, healthy lives and lead with confidence. She saw a disconnect between medicine and the lack of education patients had on their diseases\, their medications\, how to eat well\, and exercise.  That was the turning point...Becky became a certified Health Coach and never looked back.
X-ALT-DESC;FMTTYPE=text/html:<h3><span style="font-family:calibri\,sans-serif\;"><span style="font-size:11.0pt\;"><strong><u><span style="font-size:14px\;"><span style="font-family:verdana\;">TOPIC:</span></span></u></strong></span></span></h3>\n\n<h3><br />\n<span style="font-size:14px\;"><span style="font-family:calibri\,sans-serif\;"><span style="font-family:verdana\;">Maintaining Peace in a Chaotic World:&nbsp\; How to talk to your employees about&nbsp\;mental health</span></span></span></h3>\n\n<hr />\n<p><span style="font-size:14px\;">&nbsp\;</span><br />\n<span style="font-size:16px\;"><u><strong><span style="font-family:arial\;">SPEAKER:&nbsp\;</span> </strong></u></span><span style="font-size:12.0pt"><span style="font-size:16px\;"><span style="font-family:arial\;"><u><strong>Becky Wolfe</strong></u></span></span></span><br />\n<span style="font-size: 14px\;"><span style="font-family: verdana\;"><span apple="" background-color:="" color="" droid="" fira="" font-size:="" helvetica="" lucida="" oxygen="" segoe="" style="color: rgba(0\, 0\, 0\, 0.9)\;" ui="">Helping Medical Practices Reduce Turnover Costs | Burnout Prevention Expert | Message Me To Learn More About How to Retain Your Best People | Host of the Leadership Pulse Podcast</span></span></span></p>\n\n<p><span style="font-family: verdana\;"><span style="font-size:14px\;">Becky is a Leadership and Health Coach on a mission to help women and men live happy\, healthy lives and lead with confidence. She&nbsp\;saw a disconnect between&nbsp\;</span></span><span style="font-family: Raleway\, Helvetica\, Arial\, Lucida\, sans-serif\; font-size: 18px\;"><span style="font-family:verdana\;"><span style="font-size:14px\;">medicine and the lack of&nbsp\;education&nbsp\;patients had on their diseases\, their medications\, how&nbsp\;to eat well\, and exercise.&nbsp\; That was the&nbsp\;turning point...Becky became a certified Health Coach and never looked back.&nbsp\;&nbsp\;</span></span></span></p>\n
LOCATION:
UID:e.2279.8509
SEQUENCE:3
DTSTAMP:20260425T153911Z
URL:https://business.cfchamber.com/events/details/lunch-learn-series-2023-8509
END:VEVENT

END:VCALENDAR
