BEGIN:VCALENDAR
VERSION:2.0
PRODID:-//ChamberMaster//Event Calendar 2.0//EN
METHOD:PUBLISH
X-PUBLISHED-TTL:P3D
REFRESH-INTERVAL:P3D
CALSCALE:GREGORIAN
BEGIN:VEVENT
DTSTART:20230829T153000Z
DTEND:20230829T164500Z
X-MICROSOFT-CDO-ALLDAYEVENT:FALSE
SUMMARY:Lunch & Learn - Series 2023
DESCRIPTION:The 6 types of Working Genius is a new model that helps people discover their natural gifts and thrive in their work and life. When people are able to better understand the types of work that bring them more energy and fulfillment and avoid work that leads to frustration and failure\, they can be more self-aware\, more productive and more successful.\n\n \n\nWorking Genius identifies the six fundamental activities that are required for any type of work and provides a simple framework for how work gets done. Too many people feel frustrated\, underutilized or misunderstood at work.\n\n\n \n\nSPEAKER:  Bob Dianetti\n\nOwner of BrainSpark \, a professional talent development organization located in Northeast Ohio.  He is an Authorized YB12 Corporate Coach\, Everything DiSC and The Five Behaviors of a Cohesive Team Authorized Partner\, and a Registered Corporate Coach through the Worldwide Association of Business Coaches.  He is also an Associate Fellow with the Society for Technical Communication.
X-ALT-DESC;FMTTYPE=text/html:<p><span style="font-size:14px\;"><span style="color:black\;">The 6 types of Working Genius is a new model that helps people discover their natural gifts and thrive in their work and life. When people are able to better understand the types of work that bring them more energy and fulfillment and avoid work that leads to frustration and failure\, they can be more self-aware\, more productive and more successful.</span><br />\n&nbsp\;<br />\n<span style="color:black\;">Working Genius identifies the six fundamental activities that are required for any type of work and provides a simple framework for how work gets done. Too many people feel frustrated\, underutilized or misunderstood at work.</span></span></p>\n\n<hr />\n<p><span style="font-size:14px\;">&nbsp\;</span><br />\n<span style="font-size:16px\;"><u><strong><span style="font-family:arial\;">SPEAKER:&nbsp\;</span>&nbsp\;</strong></u></span><span style="font-size:12.0pt"><span style="font-size:16px\;"><span style="font-family:arial\;"><u><strong>Bob Dianetti</strong></u></span></span><br />\n<span style="font-size:14px\;">Owner of BrainSpark&reg\;\, a professional talent development organization located in Northeast Ohio.&nbsp\; He is an Authorized YB12 Corporate Coach\, Everything DiSC and The Five Behaviors of a Cohesive Team Authorized Partner\, and a Registered Corporate Coach through the Worldwide Association of Business Coaches.&nbsp\; He is also an Associate Fellow with the Society for Technical Communication.</span></span></p>\n\n<p><br />\n&nbsp\;</p>\n\n<p>&nbsp\;</p>\n
LOCATION:
UID:e.2279.8507
SEQUENCE:3
DTSTAMP:20260425T165106Z
URL:https://business.cfchamber.com/events/details/lunch-learn-series-2023-8507
END:VEVENT

END:VCALENDAR
