BEGIN:VCALENDAR
VERSION:2.0
PRODID:-//ChamberMaster//Event Calendar 2.0//EN
METHOD:PUBLISH
X-PUBLISHED-TTL:P3D
REFRESH-INTERVAL:P3D
CALSCALE:GREGORIAN
BEGIN:VEVENT
DTSTART:20231114T163000Z
DTEND:20231114T174500Z
X-MICROSOFT-CDO-ALLDAYEVENT:FALSE
SUMMARY:Lunch and Learn - Series 2023
DESCRIPTION:TOPIC - "Addressing our Anxiety" with Pastor David of Grandview United Methodist Church\n\n\nJoin Pastor David as we learn practical ways to address our individual and organizational anxiety.\n\n\nDavid Hull-Frye is Pastor at Grandview United Methodist Church.  Grandview is an InterGenerational MultiCultural Christian Faith Community with campuses at 23rd & Phelps and the Gateway.\n\n \n\nHis work as a Pastor focuses largely on helping others address their anxiety in practical ways. Join him for this interactive Lunch and Learn as he shares exercises and resources you can use in addressing our individual and communal anxiety.
X-ALT-DESC;FMTTYPE=text/html:<h4><span style="font-family:verdana\;"><strong comic="" font-size:="" sans="" style="font-family: ">TOPIC - &quot\;Addressing our Anxiety&quot\;&nbsp\;</strong><strong><span comic="" font-size:="" sans="">with Pastor David of Grandview United Methodist Church</span></strong></span></h4>\n\n<hr />\n<p><span style="font-family:verdana\;"><span style="font-size:14px\;">Join Pastor David as we learn practical ways to address our individual and organizational anxiety.</span></span></p>\n\n<hr />\n<p><span style="font-family:verdana\;"><span style="font-size:14px\;"><strong><u>David Hull-Frye</u></strong> is Pastor at Grandview United Methodist Church.&nbsp\; Grandview is an InterGenerational MultiCultural Christian Faith Community with campuses at 23rd &amp\; Phelps and the Gateway.<br />\n&nbsp\;<br />\nHis work as a Pastor focuses largely on helping others address their anxiety in practical ways. Join him for this interactive Lunch and Learn as he shares exercises and resources you can use in addressing our individual and communal anxiety.</span></span><br />\n<br />\n&nbsp\;</p>\n
LOCATION:
UID:e.2279.8532
SEQUENCE:3
DTSTAMP:20260425T133149Z
URL:https://business.cfchamber.com/events/details/lunch-and-learn-series-2023-8532
END:VEVENT

END:VCALENDAR
