BEGIN:VCALENDAR
VERSION:2.0
PRODID:-//ChamberMaster//Event Calendar 2.0//EN
METHOD:PUBLISH
X-PUBLISHED-TTL:P3D
REFRESH-INTERVAL:P3D
CALSCALE:GREGORIAN
BEGIN:VEVENT
DTSTART:20231031T153000Z
DTEND:20231031T164500Z
X-MICROSOFT-CDO-ALLDAYEVENT:FALSE
SUMMARY:Lunch and Learn - Series 2023
DESCRIPTION:One Sheet Workshops - Start with a blank sheet of paper and leave with a better understanding of your business.\nTOPIC - "Transformation Matrix" with Adam LaFaber - Founder\, Digital Sandwich Agency\n\n\n	 Fix your messaging - this informs your 30-second commercial\, your services\, and your content strategy\, all through one exercise.
X-ALT-DESC;FMTTYPE=text/html:<h3><span style="font-size:16px\;"><span style="font-family:comic sans ms\;"><strong>One Sheet Workshops - Start with a blank sheet of paper and leave with a better understanding of your business.</strong></span></span></h3>\n<span style="font-size:16px\;"><strong>TOPIC - &quot\;Transformation Matrix&quot\;&nbsp\;</strong><span style="font-family: verdana\;">with Adam LaFaber - Founder\, Digital Sandwich Agency</span></span>\n\n<ul>\n	<li><span style="font-size:16px\;"><span style="font-family:verdana\;">&#8203\;Fix your messaging - this informs your 30-second commercial\, your services\, and your content strategy\, all through one exercise.</span></span></li>\n</ul>\n\n<hr />\n<p>&nbsp\;</p>\n
LOCATION:
UID:e.2279.8528
SEQUENCE:3
DTSTAMP:20260425T133147Z
URL:https://business.cfchamber.com/events/details/lunch-and-learn-series-2023-8528
END:VEVENT

END:VCALENDAR
