BEGIN:VCALENDAR
VERSION:2.0
PRODID:-//ChamberMaster//Event Calendar 2.0//EN
METHOD:PUBLISH
X-PUBLISHED-TTL:P3D
REFRESH-INTERVAL:P3D
CALSCALE:GREGORIAN
BEGIN:VEVENT
DTSTART:20231017T153000Z
DTEND:20231017T164500Z
X-MICROSOFT-CDO-ALLDAYEVENT:FALSE
SUMMARY:Lunch & Learn Series 2023
DESCRIPTION:Lunch & Learn        " Things You Should Know "  \n\nPresented by Jim Brearley\, Chestnut Hill Memorial Park and Steve Shoemaker\, Clifford-Shoemaker Funeral Home\n\n\n\nJim Brearley\n\nJim has been assisting families in the cemetery business for about 17 years.  Serving families here at Chestnut Hill for 13 years. Currently living in the Kent area\, hobbies include sports\, volunteering\, antique clocks.\n\n\n\nSteve Shoemaker\n\nI was raised in Cuyahoga Falls\, graduated from Falls High in 2001 and went on to graduate with a BA from Kent State University. During my time at Kent State\, I worked at a Goodyear Tire and Service Center before deciding to come into the family business. In 2009 I was licensed as a Funeral Director and upon Ken Shoemaker's retirement in 2014 I became co-owner and manager of the funeral home. \n\n\n\nI love Cuyahoga Falls but dreams of country living led us to move to Brimfield where we could have more land. My wife\, Ashley and our 2 children\, Parker and Jace love spending as much time outside as we can. Playing with our beagle mix\, Georga and our Cane Corso\, Sawyer\, and caring for Ashley's ever growing hobby farm. \n\n\n\nI truly enjoy getting a chance to meet people from all sorts of different situations and help them through a very difficult time. There is a lot of history and interesting people in our community and this career has allowed me to hear many amazing stories. We have a wonderful group of people with big hearts here at the funeral home\, which makes coming to work a pleasure.  I hope to serve the community for many years to come.
X-ALT-DESC;FMTTYPE=text/html:<h2><span style="font-size:16px\;"><span style="font-family:arial\;">Lunch &amp\; Learn</span></span>&nbsp\;&nbsp\;&nbsp\;&nbsp\;&nbsp\;&nbsp\;&nbsp\;&nbsp\;<strong style="font-size: 13px\;"><span style="font-size:16px\;"><span style="font-family:arial\;">&quot\; Things You Should Know &quot\;&nbsp\;&nbsp\;</span></span></strong></h2>\n\n<h3><span style="font-size:14px\;"><span style="font-family:arial\;">Presented by&nbsp\;<span style="color:black\;">Jim Brearley\,&nbsp\;</span>Chestnut Hill Memorial Park and&nbsp\;<span style="color:black\;">Steve Shoemaker\, Clifford-Shoemaker Funeral Home</span></span></span></h3>\n\n<hr /><br />\n<span style="font-size:14px\;"><span style="font-family:arial\;"><u>Jim Brearley</u><br />\n<span style="color:#000000\;">Jim has&nbsp\;</span><span style="color:black\;">been assisting families in the cemetery business for about 17 years.&nbsp\; Serving families here at Chestnut Hill for 13 years. Currently living in the Kent area\, hobbies include sports\, volunteering\, antique clocks.<br />\n<br />\n<u>Steve Shoemaker</u></span><br />\n<span style="color:#283E4E\;">I was raised in Cuyahoga Falls\, graduated from Falls High in 2001 and went on to graduate with a BA from Kent State University. During my time at Kent State\, I worked at a Goodyear Tire and Service Center before deciding to come into the family business. In 2009 I was licensed as a Funeral Director and upon Ken Shoemaker&rsquo\;s retirement in 2014 I became co-owner and manager of the funeral home.&nbsp\;</span><br />\n<br />\n<span style="color:#283E4E\;">I love Cuyahoga Falls but dreams of country living led us to move to Brimfield where we could have more land. My wife\, Ashley and our 2 children\, Parker and Jace love spending as much time outside as we can. Playing with our beagle mix\, Georga and our Cane Corso\, Sawyer\, and caring for Ashley&rsquo\;s ever growing hobby farm.&nbsp\;</span><br />\n<br />\n<span style="color:#283E4E\;">I truly enjoy getting a chance to meet people from all sorts of different situations and help them through a very difficult time. There is a lot of history and interesting people in our community and this career has allowed me to hear many amazing stories.&nbsp\;</span><span style="color:#283E4E\;">We have a wonderful group of people with big hearts here at the funeral home\, which makes coming to work a pleasure. &nbsp\;I hope to serve the community for many years to come.</span><br />\n&nbsp\;</span></span><br />\n&nbsp\;
LOCATION:This is a FREE event held at the Gateway Bring Your Lunch! 11:30 a.m. - 12 noon Lunch and social networking 12 noon - 12:45 p.m. Learning program Space is limited to 12 registrants
UID:e.2279.8527
SEQUENCE:3
DTSTAMP:20260425T133036Z
URL:https://business.cfchamber.com/events/details/lunch-amp-learn-series-2023-8527
END:VEVENT

END:VCALENDAR
