BEGIN:VCALENDAR
VERSION:2.0
PRODID:-//ChamberMaster//Event Calendar 2.0//EN
METHOD:PUBLISH
X-PUBLISHED-TTL:P3D
REFRESH-INTERVAL:P3D
CALSCALE:GREGORIAN
BEGIN:VEVENT
DTSTART:20151008T113000Z
DTEND:20151008T130000Z
X-MICROSOFT-CDO-ALLDAYEVENT:FALSE
SUMMARY:Let's Talk Chamber!
DESCRIPTION:Let's Talk Chamber!\n\nALL are welcome to attend....FREE Coffee\, Breakfast Treats\, and Networking!\n\nChamber Members and Non-Members....\n\nPlease join us for a breakfast reception of networking AND business!\n\nThinking of joining the Chamber....\n\nThis will be YOUR opportunity to meet Chamber Members\, Board Members\, and Ambassadors to ask questions.  You will hear how the Chamber is working for them!  You will also have the opportunity to talk about your business as well.\n\nAlready a Chamber Member?\n\nPlease tell us what is on your mind....\n\nIs there a business product\, business service OR business event that you would like to see the Chamber offer?  Do you need help in your business?  This is your opportunity to tell us what you are thinking!
X-ALT-DESC;FMTTYPE=text/html:<strong>Let&#39\;s Talk Chamber!</strong><br />\nALL are welcome to attend....FREE Coffee\, Breakfast Treats\, and Networking!<br />\n<strong>Chamber Members and Non-Members....</strong><br />\n<em>Please join us for a breakfast reception of networking AND business!</em><br />\n<strong>Thinking of joining the Chamber....</strong><br />\n<em>This will be YOUR opportunity to meet Chamber Members\, Board Members\, and Ambassadors to ask questions. &nbsp\;You will hear how the Chamber is working for them! &nbsp\;You will also have the opportunity to talk about your business as well.</em><br />\n<strong>Already a Chamber Member?</strong><br />\n<strong>Please tell us what is on your mind....</strong><br />\n<em>Is there a business product\, business service OR business event that you would like to see the Chamber offer? &nbsp\;Do you need help in your business? &nbsp\;This is your opportunity to tell us what you are thinking!</em>
LOCATION:The Cuyahoga Falls Chamber of Commerce 151 Portage Trail\, Suite 1 Cuyahoga Falls\, Ohio 44221 330-929-6756
UID:e.2279.2306
SEQUENCE:3
DTSTAMP:20260423T170058Z
URL:https://business.cfchamber.com/events/details/let-s-talk-chamber-10-08-2015-2306
END:VEVENT

END:VCALENDAR
