BEGIN:VCALENDAR
VERSION:2.0
PRODID:-//ChamberMaster//Event Calendar 2.0//EN
METHOD:PUBLISH
X-PUBLISHED-TTL:P3D
REFRESH-INTERVAL:P3D
CALSCALE:GREGORIAN
BEGIN:VEVENT
DTSTART:20170320T200000Z
DTEND:20170320T210000Z
X-MICROSOFT-CDO-ALLDAYEVENT:FALSE
SUMMARY:Jr. Young Professionals Skill Session #2 for STUDENTS - March 20\, 2017
DESCRIPTION:2017 JR Young Professionals\n\nSkill Sessions for STUDENTS\n\nA program of the Cuyahoga Falls Chamber of Commerce\n\n\n\nSESSION 1: \n\nMonday\, March 13\, 2017\n\nHow to create a resume or spruce up a current resume. Bring your copy and information!\n\n SESSION 2: \n\nMonday\, March 20\, 2017\n\nBusiness etiquette 101 (Email\, phone\, dress for success\, small business procedures and policies.) (This event link reserves for the session 2 event.)\n\nSESSION 3: \n\nMonday\, April 3\, 2017\n\nHow to interview for job   practice with questions.\n\nSESSION 4:\n\nMonday\, April 10\, 2017\n\nCustomer Service 101 - practice scenarios to help you be the best!  \n\n\n\nWhat are JR Young Professionals Skill Sessions?\n\nThese FREE program sessions are set up to help our Cuyahoga Falls/Silver Lake resident STUDENTS who would like assistance from our Cuyahoga Falls Chamber of Commerce BUSINESS LEADERS.\n\nSessions will be geared towards helping students as they prepare to enter college and the business world. (ALL students are welcome to attend regardless of grade.) \n\n	Sessions will be facilitated by the Cuyahoga Falls Chamber of Commerce business leaders in small group settings. \n	Limited seating! \n	\n		 4 BUSINESS LEADERS\n		8  STUDENT Jr. Young Professionals \n	\n	\n\n\nWe are asking for Chamber Member BUSINESS LEADERS who are willing to help (volunteer) facilitate these 4 different sessions to help and assist our students who attend Cuyahoga Falls High School and Woodridge High School. Sessions will be geared towards helping students as they prepare to enter college and the business world. (ALL students are welcome to attend regardless of grade.)\n\nThese 1-hour (small group) sessions will be held in the Cuyahoga Falls High School Library on the selected dates from 4 pm   5 pm.\n\nEach session will include 4 Chamber Member business leaders and up to 8 high school students.\n\n*Please register for only one session at a time to allow for all fellow Chamber Members the same opportunity to help facilitate. Thank you!
X-ALT-DESC;FMTTYPE=text/html:<span style="color:#FF8C00\;"><strong><span style="font-family:arial black\,sans-serif\;"><span style="font-size:24.0pt\;">2017 JR Young Professionals<br />\nSkill Sessions for STUDENTS</span></span></strong></span><br />\n<em><span style="font-size:9.0pt\;">A program of the Cuyahoga Falls Chamber of Commerce</span></em><br />\n<br />\n<span style="font-size:10px\;"><strong>SESSION 1: </strong><br />\nMonday\, March 13\, 2017<br />\nHow to create a resume or spruce up a current resume. Bring your copy and information!</span><br />\n<span style="color:#0000CD\;"><strong>&#8203\;</strong><span style="font-size:14px\;"><strong>SESSION 2:</strong>&nbsp\;<br />\nMonday\, March 20\, 2017<br />\nBusiness etiquette 101 <span style="font-size:12px\;">(Email\, phone\, dress for success\, small business procedures and policies.) (This event link reserves for the session 2 event.)</span></span></span><br />\n<span style="font-size:10px\;"><strong>SESSION 3:</strong>&nbsp\;<br />\nMonday\, April 3\, 2017<br />\nHow to interview for job &ndash\; practice with questions.<br />\n<strong>SESSION 4:</strong><br />\nMonday\, April 10\, 2017<br />\nCustomer Service 101 - practice scenarios to help you be the best! &nbsp\;</span><br />\n<br />\n<strong><u><span style="color:#3D3C3C\;"><span style="font-family:calibri\,sans-serif\;"><span style="font-size:16.0pt\;">What are JR Young Professionals Skill Sessions?</span></span></span></u></strong><br />\n<span style="color:#3D3C3C\;"><span style="font-family:calibri\,sans-serif\;">These FREE program sessions are set up to help our Cuyahoga Falls/Silver Lake resident STUDENTS who would like assistance from our Cuyahoga Falls Chamber of Commerce BUSINESS LEADERS.<br />\nSessions will be geared towards helping students as they prepare to enter college and the business world. (ALL students are welcome to attend regardless of grade.) </span></span>\n<ul>\n	<li style="margin-top:0in\;margin-right:0in\;margin-bottom:11.25pt\;background:white\;vertical-align:baseline\;"><span style="color:#3D3C3C\;"><span style="font-family:calibri\,sans-serif\;">Sessions will be facilitated by the Cuyahoga Falls Chamber of Commerce business leaders in small group settings. </span></span></li>\n	<li style="margin-top:0in\;margin-right:0in\;margin-bottom:11.25pt\;background:white\;vertical-align:baseline\;"><span style="color:#3D3C3C\;"><span style="font-family:calibri\,sans-serif\;">Limited seating!&nbsp\;</span></span>\n	<ul>\n		<li style="margin-top:0in\;margin-right:0in\;margin-bottom:11.25pt\;background:white\;vertical-align:baseline\;"><span style="color:#3D3C3C\;"><span style="font-family:calibri\,sans-serif\;">&#8203\;4 BUSINESS LEADERS</span></span></li>\n		<li style="margin-top:0in\;margin-right:0in\;margin-bottom:11.25pt\;background:white\;vertical-align:baseline\;"><span style="color:#3D3C3C\;"><span style="font-family:calibri\,sans-serif\;">8 &nbsp\;STUDENT&nbsp\;Jr. Young Professionals&nbsp\;</span></span></li>\n	</ul>\n	</li>\n</ul>\n\n<div style="margin-top:0in\;margin-right:0in\;margin-bottom:11.25pt\;background:white\;vertical-align:baseline\;"><span style="border:none windowtext 1.0pt\;padding:0in\;background:white\;"><span style="color:#818181\;"><span style="font-size:12.0pt\;">We are </span></span></span><span style="color:#818181\;"><span style="font-size:12.0pt\;">asking for Chamber Member </span></span><strong><span style="color:#F79646\;"><span style="font-size:12.0pt\;">BUSINESS LEADERS</span></span></strong> <span style="color:#818181\;"><span style="font-size:12.0pt\;">who are willing to help (volunteer) facilitate these 4 different sessions to help and assist our </span></span><span style="color:#7F7F7F\;"><span style="font-size:12.0pt\;">students who attend Cuyahoga Falls High School and Woodridge High School. <span style="border:none windowtext 1.0pt\;padding:0in\;background:white\;">Sessions will be geared towards helping students as they prepare to enter college and the business world. (ALL students are welcome to attend regardless of grade.)</span></span></span><br />\n<span style="color:#818181\;"><span style="font-size:12.0pt\;">These 1-hour (small group) sessions will be held in the Cuyahoga Falls High School Library on the selected dates from 4 pm &ndash\; 5 pm.<br />\nEach session will include 4 Chamber Member business leaders and up to 8 high school students.</span></span><br />\n<span style="color:#818181\;"><span style="font-size:9.0pt\;">*Please register for only one session at a time to allow for all fellow Chamber Members the same opportunity to help facilitate. Thank you!</span></span><br />\n&nbsp\;</div>\n
LOCATION:Cuyahoga Falls High School Library 2300 4th Street Cuyahoga Falls Ohio 44221
UID:e.2279.3452
SEQUENCE:3
DTSTAMP:20260425T105626Z
URL:https://business.cfchamber.com/events/details/jr-young-professionals-skill-session-2-for-students-march-20-2017-3452
END:VEVENT

END:VCALENDAR
