BEGIN:VCALENDAR
VERSION:2.0
PRODID:-//ChamberMaster//Event Calendar 2.0//EN
METHOD:PUBLISH
X-PUBLISHED-TTL:P3D
REFRESH-INTERVAL:P3D
CALSCALE:GREGORIAN
BEGIN:VEVENT
DTSTART:20241025T150000Z
DTEND:20241025T160000Z
X-MICROSOFT-CDO-ALLDAYEVENT:FALSE
SUMMARY:Iron Ink Tattoo Ribbon Cutting
DESCRIPTION:
X-ALT-DESC;FMTTYPE=text/html:
LOCATION:Celebrate our new members! Iron Ink Tattoo & Barbershop Grand Re-opening and Ribbon Cutting on Friday\, October 25 at 11 a.m. 2695 N. Haven Blvd.
UID:e.2279.8612
SEQUENCE:3
DTSTAMP:20260424T171700Z
URL:https://business.cfchamber.com/events/details/iron-ink-tattoo-ribbon-cutting-8612
END:VEVENT

END:VCALENDAR
