BEGIN:VCALENDAR
VERSION:2.0
PRODID:-//ChamberMaster//Event Calendar 2.0//EN
METHOD:PUBLISH
X-PUBLISHED-TTL:P3D
REFRESH-INTERVAL:P3D
CALSCALE:GREGORIAN
BEGIN:VEVENT
DTSTART:20241205T150000Z
DTEND:20241205T160000Z
X-MICROSOFT-CDO-ALLDAYEVENT:FALSE
SUMMARY:Humane Society Ribbon Cutting
DESCRIPTION:
X-ALT-DESC;FMTTYPE=text/html:
LOCATION:The Humane Society of Summit County Grand Opening and Ribbon Cutting Join us to celebrate the Humane Society's new location! 752 Portage Trail Ext. West Akron\, OH 44313 7 Thursday\, December 5th at 10 a.m.
UID:e.2279.8619
SEQUENCE:3
DTSTAMP:20260424T140034Z
URL:https://business.cfchamber.com/events/details/humane-society-ribbon-cutting-8619
END:VEVENT

END:VCALENDAR
