BEGIN:VCALENDAR
VERSION:2.0
PRODID:-//ChamberMaster//Event Calendar 2.0//EN
METHOD:PUBLISH
X-PUBLISHED-TTL:P3D
REFRESH-INTERVAL:P3D
CALSCALE:GREGORIAN
BEGIN:VEVENT
DTSTART:20241213T210000Z
DTEND:20241213T220000Z
X-MICROSOFT-CDO-ALLDAYEVENT:FALSE
SUMMARY:Hometown Urgent Care Ribbon Cutting
DESCRIPTION:
X-ALT-DESC;FMTTYPE=text/html:
LOCATION:Hometown Urgent Care Ribbon Cutting Join us to celebrate the grand opening Cuyahoga Falls location Friday\, December 13 at 4:00 pm 2967 State Rd\, Cuyahoga Falls\, OH 44223
UID:e.2279.8617
SEQUENCE:3
DTSTAMP:20260424T140324Z
URL:https://business.cfchamber.com/events/details/hometown-urgent-care-ribbon-cutting-8617
END:VEVENT

END:VCALENDAR
