BEGIN:VCALENDAR
VERSION:2.0
PRODID:-//ChamberMaster//Event Calendar 2.0//EN
METHOD:PUBLISH
X-PUBLISHED-TTL:P3D
REFRESH-INTERVAL:P3D
CALSCALE:GREGORIAN
BEGIN:VEVENT
DTSTART:20230804T120000Z
DTEND:20230804T130000Z
X-MICROSOFT-CDO-ALLDAYEVENT:FALSE
SUMMARY:Great Lakes Honda - Networking on the Go
DESCRIPTION:
X-ALT-DESC;FMTTYPE=text/html:
LOCATION:Great Lakes Honda 43 Pruitt Blvd. Akron Oh 44310
UID:e.2279.8504
SEQUENCE:3
DTSTAMP:20260425T165420Z
URL:https://business.cfchamber.com/events/details/great-lakes-honda-networking-on-the-go-8504
END:VEVENT

END:VCALENDAR
