BEGIN:VCALENDAR
VERSION:2.0
PRODID:-//ChamberMaster//Event Calendar 2.0//EN
METHOD:PUBLISH
X-PUBLISHED-TTL:P3D
REFRESH-INTERVAL:P3D
CALSCALE:GREGORIAN
BEGIN:VEVENT
DTSTART:20240825T153000Z
DTEND:20240825T160000Z
X-MICROSOFT-CDO-ALLDAYEVENT:FALSE
SUMMARY:Grandview Church Ribbon Cutting Ceremony
DESCRIPTION:
X-ALT-DESC;FMTTYPE=text/html:
LOCATION:
UID:e.2279.8605
SEQUENCE:3
DTSTAMP:20260424T203041Z
URL:https://business.cfchamber.com/events/details/grandview-church-ribbon-cutting-ceremony-8605
END:VEVENT

END:VCALENDAR
