BEGIN:VCALENDAR
VERSION:2.0
PRODID:-//ChamberMaster//Event Calendar 2.0//EN
METHOD:PUBLISH
X-PUBLISHED-TTL:P3D
REFRESH-INTERVAL:P3D
CALSCALE:GREGORIAN
BEGIN:VEVENT
DTSTART:20260701T160000Z
DTEND:20260701T170000Z
X-MICROSOFT-CDO-ALLDAYEVENT:FALSE
SUMMARY:Goldmine Group - Wednesday Afternoon
DESCRIPTION:A Goldmine Group is a network of Cuyahoga Falls Chamber of Commerce members that meet on a regular basis with the intent of building trusting relationships that result in business growth and support. Members represent different and like business categories that complement referrals among members. \n\n \n\nMembers learn and share general business principals\, receive recommendations and tips and share discussions on relevant business topics and events.  By joining a Goldmine Group\, members will become part of a business community.\n\n \n\nIn addition to exchanging clients and referral sources\, members also benefit from the business experiences of other group members. Learning what has worked and not worked for other business owners is a great advantage to your own business.\n\n \n\nEach member of a Goldmine Group commits to enhance their own business and each other's businesses through: \n\n	Collaboration -  Cross-promotion of each other's businesses\n	Communication   Maintaining regular contact with members of the group.\n	Connection -  Learn about each other's businesses and share about your own.\n	Community -  Stay committed to our community and its business environment.
X-ALT-DESC;FMTTYPE=text/html:<span style="background:white\;">A Goldmine Group is a network of Cuyahoga Falls Chamber of Commerce members that meet on a regular basis with the intent of building trusting relationships that result in business growth and support. Members represent different and like business categories that complement referrals among members. </span><br />\n&nbsp\;<br />\n<span style="background:white\;">Members learn and share general business principals\, receive recommendations and tips and share discussions on relevant business topics and events.&nbsp\; By joining a Goldmine Group\, members will become part of a business community.</span><br />\n&nbsp\;<br />\n<span style="background:white\;">In addition to exchanging clients and referral sources\, members also benefit from the business experiences of other group members. Learning what has worked and not worked for other business owners is a great advantage to your own business.</span><br />\n&nbsp\;<br />\n<span style="background:white\;">Each member of a Goldmine Group commits to enhance their own business and each other&rsquo\;s businesses through</span>:&nbsp\;\n<ul>\n	<li><span style="border:none windowtext 1.0pt\;padding:0in\;">Collaboration -&nbsp\; C</span>ross-promotion of each other&rsquo\;s businesses</li>\n	<li><span style="border:none windowtext 1.0pt\;padding:0in\;">Communication &ndash\; Maintaining </span>regular contact with members of the group.</li>\n	<li><span style="border:none windowtext 1.0pt\;padding:0in\;">Connection - </span>&nbsp\;Learn about each other&rsquo\;s businesses and share about your own.</li>\n	<li><span style="border:none windowtext 1.0pt\;padding:0in\;">Community - </span>&nbsp\;Stay committed to our community and its business environment.</li>\n</ul>\n
LOCATION:Wednesday's Goldmine Group meets in person in the Gateway Conference Room
UID:e.2279.8309
SEQUENCE:3
DTSTAMP:20260423T081510Z
URL:https://business.cfchamber.com/events/details/goldmine-wednesday-afternoon-07-01-2026-8309
END:VEVENT

END:VCALENDAR
