BEGIN:VCALENDAR
VERSION:2.0
PRODID:-//ChamberMaster//Event Calendar 2.0//EN
METHOD:PUBLISH
X-PUBLISHED-TTL:P3D
REFRESH-INTERVAL:P3D
CALSCALE:GREGORIAN
BEGIN:VEVENT
DTSTART:20151209T130000Z
DTEND:20151209T140000Z
X-MICROSOFT-CDO-ALLDAYEVENT:FALSE
SUMMARY:Goldmine - Panera Bread
DESCRIPTION:Goldmine Referral Groups are currently offered within the Chamber. These are weekly business referral groups that are represented by Chamber Member businesses in different categories. The meetings are roundtable facilitated meetings with set questions to help relationship build\, exchange business leads/referrals and opportunities for each group member to speak/present to the group and pass business cards/flyers weekly.\n\n\n\n\n\nREMINDER that our Goldmine Referral Group bad weather cancelation policy is: \n\nGo to www.wkyc.com Click on school closings - if the Cuyahoga Falls schools are closed due to weather...we do not meet. Safety first! THANKS!
X-ALT-DESC;FMTTYPE=text/html:<span style="color: rgb(129\, 129\, 129)\; font-family: Raleway\, sans-serif\; font-size: 14px\; line-height: 26px\;">Goldmine Referral Groups are currently offered within the Chamber.&nbsp\;These are weekly business referral groups that are represented by Chamber Member businesses in different categories.&nbsp\;The meetings are roundtable facilitated meetings with set questions to help relationship build\, exchange business leads/referrals and opportunities for each group member to speak/present to the group and pass business cards/flyers weekly.</span><br />\n<br />\n<br />\n<span style="background: white\; border: none\; margin: 0px\; padding: 0px\; vertical-align: baseline\; outline: 0px\; bottom: auto\; box-sizing: content-box\; clear: none\; color: rgb(51\, 51\, 51)\; content: normal\; direction: inherit\; empty-cells: show\; font-variant-numeric: inherit\; font-stretch: inherit\; font-size: 10px\; font-family: sans-serif\, Arial\, Verdana\, &quot\;Trebuchet MS&quot\;\; left: auto\; line-height: inherit\; max-height: none\; max-width: none\; min-height: initial\; min-width: initial\; opacity: 1\; outline-offset: 0px\; overflow: visible\; position: static\; resize: none\; right: auto\; table-layout: auto\; text-overflow: clip\; top: auto\; visibility: inherit\; word-break: inherit\; word-wrap: inherit\; z-index: auto\; border-collapse: separate\; border-radius: 0px\; height: auto\; width: auto\; box-shadow: none\;"><span style="background: none\; border: none\; margin: 0px\; padding: 0px\; vertical-align: baseline\; outline: 0px\; bottom: auto\; box-sizing: content-box\; clear: none\; color: rgb(29\, 33\, 41)\; content: normal\; direction: inherit\; empty-cells: show\; font-style: inherit\; font-variant: inherit\; font-weight: inherit\; font-stretch: inherit\; font-size: inherit\; font-family: inherit\; left: auto\; letter-spacing: inherit\; line-height: inherit\; max-height: none\; max-width: none\; min-height: initial\; min-width: initial\; opacity: 1\; outline-offset: 0px\; overflow: visible\; position: static\; resize: none\; right: auto\; table-layout: auto\; text-align: inherit\; text-indent: inherit\; text-overflow: clip\; text-transform: inherit\; top: auto\; visibility: inherit\; white-space: inherit\; word-break: inherit\; word-spacing: inherit\; word-wrap: inherit\; z-index: auto\; border-collapse: separate\; border-radius: 0px\; height: auto\; width: auto\; box-shadow: none\;"><span style="background: none\; border: none\; margin: 0px\; padding: 0px\; vertical-align: baseline\; outline: 0px\; bottom: auto\; box-sizing: content-box\; clear: none\; color: inherit\; content: normal\; direction: inherit\; empty-cells: show\; font-style: inherit\; font-variant: inherit\; font-weight: inherit\; font-stretch: inherit\; font-size: inherit\; font-family: helvetica\, sans-serif\; left: auto\; letter-spacing: inherit\; line-height: inherit\; max-height: none\; max-width: none\; min-height: initial\; min-width: initial\; opacity: 1\; outline-offset: 0px\; overflow: visible\; position: static\; resize: none\; right: auto\; table-layout: auto\; text-align: inherit\; text-indent: inherit\; text-overflow: clip\; text-transform: inherit\; top: auto\; visibility: inherit\; white-space: inherit\; word-break: inherit\; word-spacing: inherit\; word-wrap: inherit\; z-index: auto\; border-collapse: separate\; border-radius: 0px\; height: auto\; width: auto\; box-shadow: none\;"><span style="background: none\; border: none\; margin: 0px\; padding: 0px\; vertical-align: baseline\; outline: 0px\; bottom: auto\; box-sizing: content-box\; clear: none\; color: inherit\; content: normal\; direction: inherit\; empty-cells: show\; font-style: inherit\; font-variant: inherit\; font-weight: bolder\; font-stretch: inherit\; font-size: inherit\; font-family: inherit\; left: auto\; letter-spacing: inherit\; line-height: inherit\; max-height: none\; max-width: none\; min-height: initial\; min-width: initial\; opacity: 1\; outline-offset: 0px\; overflow: visible\; position: static\; resize: none\; right: auto\; table-layout: auto\; text-align: inherit\; text-indent: inherit\; text-overflow: clip\; text-transform: inherit\; top: auto\; visibility: inherit\; white-space: inherit\; word-break: inherit\; word-spacing: inherit\; word-wrap: inherit\; z-index: auto\; border-collapse: separate\; border-radius: 0px\; height: auto\; width: auto\; box-shadow: none\;">REMINDER</span>&nbsp\;that our&nbsp\;Goldmine&nbsp\;Referral Group bad weather cancelation policy is:&nbsp\;</span></span></span><br style="bottom: auto\; box-sizing: content-box\; clear: none\; color: rgb(51\, 51\, 51)\; content: normal\; direction: inherit\; display: inline\; empty-cells: show\; float: none\; font-variant-numeric: inherit\; font-stretch: inherit\; font-size: 10px\; font-family: sans-serif\, Arial\, Verdana\, &quot\;Trebuchet MS&quot\;\; left: auto\; line-height: inherit\; margin: 0px\; max-height: none\; max-width: none\; min-height: initial\; min-width: initial\; opacity: 1\; outline-offset: 0px\; overflow: visible\; padding: 0px\; position: static\; resize: none\; right: auto\; table-layout: auto\; text-overflow: clip\; top: auto\; vertical-align: baseline\; visibility: inherit\; word-break: inherit\; word-wrap: inherit\; z-index: auto\; background: none rgb(255\, 255\, 255)\; border: none\; border-collapse: separate\; border-radius: 0px\; height: auto\; width: auto\;" />\n<span style="background: none rgb(255\, 255\, 255)\; border: none\; margin: 0px\; padding: 0px\; vertical-align: baseline\; outline: 0px\; bottom: auto\; box-sizing: content-box\; clear: none\; color: rgb(29\, 33\, 41)\; content: normal\; direction: inherit\; empty-cells: show\; font-variant-numeric: inherit\; font-stretch: inherit\; font-size: 10px\; font-family: sans-serif\, Arial\, Verdana\, &quot\;Trebuchet MS&quot\;\; left: auto\; line-height: inherit\; max-height: none\; max-width: none\; min-height: initial\; min-width: initial\; opacity: 1\; outline-offset: 0px\; overflow: visible\; position: static\; resize: none\; right: auto\; table-layout: auto\; text-overflow: clip\; top: auto\; visibility: inherit\; word-break: inherit\; word-wrap: inherit\; z-index: auto\; border-collapse: separate\; border-radius: 0px\; height: auto\; width: auto\; box-shadow: none\;"><span style="background: none\; border: none\; margin: 0px\; padding: 0px\; vertical-align: baseline\; outline: 0px\; bottom: auto\; box-sizing: content-box\; clear: none\; color: inherit\; content: normal\; direction: inherit\; empty-cells: show\; font-style: inherit\; font-variant: inherit\; font-weight: inherit\; font-stretch: inherit\; font-size: inherit\; font-family: helvetica\, sans-serif\; left: auto\; letter-spacing: inherit\; line-height: inherit\; max-height: none\; max-width: none\; min-height: initial\; min-width: initial\; opacity: 1\; outline-offset: 0px\; overflow: visible\; position: static\; resize: none\; right: auto\; table-layout: auto\; text-align: inherit\; text-indent: inherit\; text-overflow: clip\; text-transform: inherit\; top: auto\; visibility: inherit\; white-space: inherit\; word-break: inherit\; word-spacing: inherit\; word-wrap: inherit\; z-index: auto\; border-collapse: separate\; border-radius: 0px\; height: auto\; width: auto\; box-shadow: none\;"><span style="background-image: initial\; background-position: initial\; background-size: initial\; background-repeat: initial\; background-attachment: initial\; background-origin: initial\; background-clip: initial\; border: none\; margin: 0px\; padding: 0px\; vertical-align: baseline\; outline: 0px\; bottom: auto\; box-sizing: content-box\; clear: none\; color: inherit\; content: normal\; direction: inherit\; empty-cells: show\; font-style: inherit\; font-variant: inherit\; font-weight: inherit\; font-stretch: inherit\; font-size: inherit\; font-family: inherit\; left: auto\; letter-spacing: inherit\; line-height: inherit\; max-height: none\; max-width: none\; min-height: initial\; min-width: initial\; opacity: 1\; outline-offset: 0px\; overflow: visible\; position: static\; resize: none\; right: auto\; table-layout: auto\; text-align: inherit\; text-indent: inherit\; text-overflow: clip\; text-transform: inherit\; top: auto\; visibility: inherit\; white-space: inherit\; word-break: inherit\; word-spacing: inherit\; word-wrap: inherit\; z-index: auto\; border-collapse: separate\; border-radius: 0px\; height: auto\; width: auto\; box-shadow: none\;">Go to&nbsp\;</span></span></span><a href="https://l.facebook.com/l.php?u=http%3A%2F%2Fwww.wkyc.com%2F&amp\;h=ATN32Aan6-X_cofyUbIkY7iGdWhIMq8Yf7VzzGBJwc4JG6AK1p9g6gnEeOTNR2EW14gFwhfXKfdgwtypIBAapXFBSQx7dA8pHaXu53AcVuylEoZoK_9ZTGQpdPvJaTlMBmhif3rzz31YefLxn8CN7uIs7YRiwop3cUq-W7UuUN0hYP9Rq3zLjlciv1vk45tpLErGpHSv63U5gkpgdQTDNOynaN0oXIXD67-EfKZYFIKNFmq78gh0PCT-nCO3dK6j24-VnLD_Q0o5dPbgt8DGsVFu8HuhkyR084BJ" style="background: none rgb(255\, 255\, 255)\; border: none\; margin: 0px\; padding: 0px\; vertical-align: baseline\; outline: 0px\; color: rgb(7\, 130\, 193)\; text-decoration: none\; cursor: pointer\; bottom: auto\; box-sizing: content-box\; clear: none\; content: normal\; direction: inherit\; display: inline\; empty-cells: show\; float: none\; font-variant-numeric: inherit\; font-stretch: inherit\; font-size: 10px\; font-family: sans-serif\, Arial\, Verdana\, &quot\;Trebuchet MS&quot\;\; left: auto\; line-height: inherit\; max-height: none\; max-width: none\; min-height: initial\; min-width: initial\; opacity: 1\; outline-offset: 0px\; overflow: visible\; position: static\; resize: none\; right: auto\; table-layout: auto\; text-overflow: clip\; top: auto\; visibility: inherit\; word-break: inherit\; word-wrap: break-word\; z-index: auto\; border-collapse: separate\; border-radius: 0px\; height: auto\; width: auto\; box-shadow: none\;" target="_blank"><span style="background-image: initial\; background-position: initial\; background-size: initial\; background-repeat: initial\; background-attachment: initial\; background-origin: initial\; background-clip: initial\; border: none\; margin: 0px\; padding: 0px\; vertical-align: baseline\; outline: 0px\; bottom: auto\; box-sizing: content-box\; clear: none\; color: inherit\; content: normal\; direction: inherit\; empty-cells: show\; font-style: inherit\; font-variant: inherit\; font-weight: inherit\; font-stretch: inherit\; font-size: inherit\; font-family: inherit\; left: auto\; letter-spacing: inherit\; line-height: inherit\; max-height: none\; max-width: none\; min-height: initial\; min-width: initial\; opacity: 1\; outline-offset: 0px\; overflow: visible\; position: static\; resize: none\; right: auto\; table-layout: auto\; text-align: inherit\; text-indent: inherit\; text-overflow: clip\; text-transform: inherit\; top: auto\; visibility: inherit\; white-space: inherit\; word-break: inherit\; word-spacing: inherit\; word-wrap: inherit\; z-index: auto\; border-collapse: separate\; border-radius: 0px\; height: auto\; width: auto\; box-shadow: none\;"><span style="background: none\; border: none\; margin: 0px\; padding: 0px\; vertical-align: baseline\; outline: 0px\; bottom: auto\; box-sizing: content-box\; clear: none\; color: rgb(54\, 88\, 153)\; content: normal\; direction: inherit\; empty-cells: show\; font-style: inherit\; font-variant: inherit\; font-weight: inherit\; font-stretch: inherit\; font-size: inherit\; font-family: inherit\; left: auto\; letter-spacing: inherit\; line-height: inherit\; max-height: none\; max-width: none\; min-height: initial\; min-width: initial\; opacity: 1\; outline-offset: 0px\; overflow: visible\; position: static\; resize: none\; right: auto\; table-layout: auto\; text-align: inherit\; text-indent: inherit\; text-overflow: clip\; text-transform: inherit\; top: auto\; visibility: inherit\; white-space: inherit\; word-break: inherit\; word-spacing: inherit\; word-wrap: inherit\; z-index: auto\; border-collapse: separate\; border-radius: 0px\; height: auto\; width: auto\; box-shadow: none\;"><span style="background: none\; border: none\; margin: 0px\; padding: 0px\; vertical-align: baseline\; outline: 0px\; bottom: auto\; box-sizing: content-box\; clear: none\; color: inherit\; content: normal\; direction: inherit\; empty-cells: show\; font-style: inherit\; font-variant: inherit\; font-weight: inherit\; font-stretch: inherit\; font-size: inherit\; font-family: helvetica\, sans-serif\; left: auto\; letter-spacing: inherit\; line-height: inherit\; max-height: none\; max-width: none\; min-height: initial\; min-width: initial\; opacity: 1\; outline-offset: 0px\; overflow: visible\; position: static\; resize: none\; right: auto\; table-layout: auto\; text-align: inherit\; text-indent: inherit\; text-overflow: clip\; text-transform: inherit\; top: auto\; visibility: inherit\; white-space: inherit\; word-break: inherit\; word-spacing: inherit\; word-wrap: inherit\; z-index: auto\; border-collapse: separate\; border-radius: 0px\; height: auto\; width: auto\; box-shadow: none\;">www.wkyc.com</span></span></span></a><span style="background: white\; border: none\; margin: 0px\; padding: 0px\; vertical-align: baseline\; outline: 0px\; bottom: auto\; box-sizing: content-box\; clear: none\; color: rgb(51\, 51\, 51)\; content: normal\; direction: inherit\; empty-cells: show\; font-variant-numeric: inherit\; font-stretch: inherit\; font-size: 10px\; font-family: sans-serif\, Arial\, Verdana\, &quot\;Trebuchet MS&quot\;\; left: auto\; line-height: inherit\; max-height: none\; max-width: none\; min-height: initial\; min-width: initial\; opacity: 1\; outline-offset: 0px\; overflow: visible\; position: static\; resize: none\; right: auto\; table-layout: auto\; text-overflow: clip\; top: auto\; visibility: inherit\; word-break: inherit\; word-wrap: inherit\; z-index: auto\; border-collapse: separate\; border-radius: 0px\; height: auto\; width: auto\; box-shadow: none\;"><span style="background: none\; border: none\; margin: 0px\; padding: 0px\; vertical-align: baseline\; outline: 0px\; bottom: auto\; box-sizing: content-box\; clear: none\; color: rgb(29\, 33\, 41)\; content: normal\; direction: inherit\; empty-cells: show\; font-style: inherit\; font-variant: inherit\; font-weight: inherit\; font-stretch: inherit\; font-size: inherit\; font-family: inherit\; left: auto\; letter-spacing: inherit\; line-height: inherit\; max-height: none\; max-width: none\; min-height: initial\; min-width: initial\; opacity: 1\; outline-offset: 0px\; overflow: visible\; position: static\; resize: none\; right: auto\; table-layout: auto\; text-align: inherit\; text-indent: inherit\; text-overflow: clip\; text-transform: inherit\; top: auto\; visibility: inherit\; white-space: inherit\; word-break: inherit\; word-spacing: inherit\; word-wrap: inherit\; z-index: auto\; border-collapse: separate\; border-radius: 0px\; height: auto\; width: auto\; box-shadow: none\;"><span style="background: none\; border: none\; margin: 0px\; padding: 0px\; vertical-align: baseline\; outline: 0px\; bottom: auto\; box-sizing: content-box\; clear: none\; color: inherit\; content: normal\; direction: inherit\; empty-cells: show\; font-style: inherit\; font-variant: inherit\; font-weight: inherit\; font-stretch: inherit\; font-size: inherit\; font-family: helvetica\, sans-serif\; left: auto\; letter-spacing: inherit\; line-height: inherit\; max-height: none\; max-width: none\; min-height: initial\; min-width: initial\; opacity: 1\; outline-offset: 0px\; overflow: visible\; position: static\; resize: none\; right: auto\; table-layout: auto\; text-align: inherit\; text-indent: inherit\; text-overflow: clip\; text-transform: inherit\; top: auto\; visibility: inherit\; white-space: inherit\; word-break: inherit\; word-spacing: inherit\; word-wrap: inherit\; z-index: auto\; border-collapse: separate\; border-radius: 0px\; height: auto\; width: auto\; box-shadow: none\;">&nbsp\;Click on school closings - if the Cuyahoga Falls schools are closed due to weather...we do not meet. Safety first! THANKS!</span></span></span>
LOCATION:Panera Bread 689 Howe Ave Cuyahoga Falls\, OH 44221
UID:e.2279.890
SEQUENCE:3
DTSTAMP:20260423T094619Z
URL:https://business.cfchamber.com/events/details/goldmine-panera-bread-12-09-2015-890
END:VEVENT

END:VCALENDAR
