BEGIN:VCALENDAR
VERSION:2.0
PRODID:-//ChamberMaster//Event Calendar 2.0//EN
METHOD:PUBLISH
X-PUBLISHED-TTL:P3D
REFRESH-INTERVAL:P3D
CALSCALE:GREGORIAN
BEGIN:VEVENT
DTSTART:20230724T203000Z
DTEND:20230724T223000Z
X-MICROSOFT-CDO-ALLDAYEVENT:FALSE
SUMMARY:Goldmine Group Kick-off Event!
DESCRIPTION:
X-ALT-DESC;FMTTYPE=text/html:<br style="color: rgb(51\, 51\, 51)\; font-family: sans-serif\, Arial\, Verdana\, &quot\;Trebuchet MS&quot\;\; font-size: 13px\;" />\n<span style="color: rgb(51\, 51\, 51)\; font-family: sans-serif\, Arial\, Verdana\, &quot\;Trebuchet MS&quot\;\; font-size: 13px\; background-color: rgb(255\, 255\, 255)\;">&nbsp\;</span><br style="color: rgb(51\, 51\, 51)\; font-family: sans-serif\, Arial\, Verdana\, &quot\;Trebuchet MS&quot\;\; font-size: 13px\;" />\n&nbsp\;
LOCATION:The Gateway 111 Stow Ave. Suite 200 Cuyahoga Falls
UID:e.2279.8499
SEQUENCE:3
DTSTAMP:20260425T200430Z
URL:https://business.cfchamber.com/events/details/goldmine-group-kick-off-event-8499
END:VEVENT

END:VCALENDAR
