BEGIN:VCALENDAR
VERSION:2.0
PRODID:-//ChamberMaster//Event Calendar 2.0//EN
METHOD:PUBLISH
X-PUBLISHED-TTL:P3D
REFRESH-INTERVAL:P3D
CALSCALE:GREGORIAN
BEGIN:VEVENT
DTSTART:20240905T140000Z
DTEND:20240905T150000Z
X-MICROSOFT-CDO-ALLDAYEVENT:FALSE
SUMMARY:Floor & Decor - New Member Ribbon Cutting
DESCRIPTION:
X-ALT-DESC;FMTTYPE=text/html:
LOCATION:Grand Opening and Ribbon Cutting! 510 Howe Ave\, Cuyahoga Falls\, OH 44221 Thursday\, September 5th at 10 a.m.
UID:e.2279.8610
SEQUENCE:3
DTSTAMP:20260424T202030Z
URL:https://business.cfchamber.com/events/details/floor-decor-new-member-ribbon-cutting-8610
END:VEVENT

END:VCALENDAR
