BEGIN:VCALENDAR
VERSION:2.0
PRODID:-//ChamberMaster//Event Calendar 2.0//EN
METHOD:PUBLISH
X-PUBLISHED-TTL:P3D
REFRESH-INTERVAL:P3D
CALSCALE:GREGORIAN
BEGIN:VEVENT
DTSTART:20220603T120000Z
DTEND:20220603T130000Z
X-MICROSOFT-CDO-ALLDAYEVENT:FALSE
SUMMARY:Fabulous First Friday Multi-Chamber Networking Event
DESCRIPTION:Join Chamber members from 8 other local Chambers for social connections and sharing of business information.
X-ALT-DESC;FMTTYPE=text/html:Join Chamber members from 8 other local Chambers for social connections and sharing of business information.&nbsp\;&nbsp\;&nbsp\;&nbsp\;&nbsp\;&nbsp\;
LOCATION:Sponsored by Great Lakes Honda 43 Pruitt Blvd. Akron
UID:e.2279.8035
SEQUENCE:3
DTSTAMP:20260425T232841Z
URL:https://business.cfchamber.com/events/details/fabulous-first-friday-multi-chamber-networking-event-06-03-2022-8035
END:VEVENT

END:VCALENDAR
